BEGIN:VCALENDAR
VERSION:2.0
PRODID:-//Corvette Club of Northern Delaware - ECPv6.15.20//NONSGML v1.0//EN
CALSCALE:GREGORIAN
METHOD:PUBLISH
X-WR-CALNAME:Corvette Club of Northern Delaware
X-ORIGINAL-URL:https://vetteclub.org
X-WR-CALDESC:Events for Corvette Club of Northern Delaware
REFRESH-INTERVAL;VALUE=DURATION:PT1H
X-Robots-Tag:noindex
X-PUBLISHED-TTL:PT1H
BEGIN:VTIMEZONE
TZID:America/New_York
BEGIN:DAYLIGHT
TZOFFSETFROM:-0500
TZOFFSETTO:-0400
TZNAME:EDT
DTSTART:20230312T070000
END:DAYLIGHT
BEGIN:STANDARD
TZOFFSETFROM:-0400
TZOFFSETTO:-0500
TZNAME:EST
DTSTART:20231105T060000
END:STANDARD
BEGIN:DAYLIGHT
TZOFFSETFROM:-0500
TZOFFSETTO:-0400
TZNAME:EDT
DTSTART:20240310T070000
END:DAYLIGHT
BEGIN:STANDARD
TZOFFSETFROM:-0400
TZOFFSETTO:-0500
TZNAME:EST
DTSTART:20241103T060000
END:STANDARD
BEGIN:DAYLIGHT
TZOFFSETFROM:-0500
TZOFFSETTO:-0400
TZNAME:EDT
DTSTART:20250309T070000
END:DAYLIGHT
BEGIN:STANDARD
TZOFFSETFROM:-0400
TZOFFSETTO:-0500
TZNAME:EST
DTSTART:20251102T060000
END:STANDARD
BEGIN:DAYLIGHT
TZOFFSETFROM:-0500
TZOFFSETTO:-0400
TZNAME:EDT
DTSTART:20260308T070000
END:DAYLIGHT
BEGIN:STANDARD
TZOFFSETFROM:-0400
TZOFFSETTO:-0500
TZNAME:EST
DTSTART:20261101T060000
END:STANDARD
END:VTIMEZONE
BEGIN:VEVENT
DTSTART;TZID=America/New_York:20250828T180000
DTEND;TZID=America/New_York:20250828T200000
DTSTAMP:20260423T143534
CREATED:20250731T002832Z
LAST-MODIFIED:20250731T002832Z
UID:3870-1756404000-1756411200@vetteclub.org
SUMMARY:CCND Dinner - Anthony’s Coal Fired Pizza
DESCRIPTION:We are going to Anthony’s Coal Fired Pizza & Wings located at 4805 Limestone Road Wilmington\, DE 19808 on Thursday\, August 28th  for a 6PM reservation.  \n\n\n\n\nIf you plan on attending dinner:\n \nAfter clicking on the link below\, you will be brought to a page where you can click on the RSVP NOW button. You will then be asked to input your name\, click yes\, you are attending and how many are attending. When the information is completed\, you can click the new RSVP Now button and I will receive your response.\n\n\n\n\n\n\nhttps://www.signupgenius.com/go/8050D44AFA729A0FA7-57669898-ccnd
URL:https://vetteclub.org/event/ccnd-dinner-anthonys-coal-fired-pizza/
LOCATION:Anthony Coal Fired Pizza\, 4805 Limestone Rd.\, Pike Creek\, DE\, 19808\, United States
CATEGORIES:Social Events
END:VEVENT
BEGIN:VEVENT
DTSTART;TZID=America/New_York:20250821T090000
DTEND;TZID=America/New_York:20250821T103000
DTSTAMP:20260423T143534
CREATED:20250731T003623Z
LAST-MODIFIED:20250731T003623Z
UID:3876-1755766800-1755772200@vetteclub.org
SUMMARY:CCND Breakfast – Rt40 Diner
DESCRIPTION:
URL:https://vetteclub.org/event/ccnd-breakfast-rt40-diner-124/
LOCATION:Route 40 Diner\, 1705 Pulaski Hwy\, Bear\, DE\, 19701\, United States
CATEGORIES:Social Events
END:VEVENT
BEGIN:VEVENT
DTSTART;TZID=America/New_York:20250807T090000
DTEND;TZID=America/New_York:20250807T103000
DTSTAMP:20260423T143534
CREATED:20250731T003531Z
LAST-MODIFIED:20250731T003531Z
UID:3874-1754557200-1754562600@vetteclub.org
SUMMARY:CCND Breakfast – Rt40 Diner
DESCRIPTION:
URL:https://vetteclub.org/event/ccnd-breakfast-rt40-diner-123/
LOCATION:Route 40 Diner\, 1705 Pulaski Hwy\, Bear\, DE\, 19701\, United States
CATEGORIES:Social Events
END:VEVENT
BEGIN:VEVENT
DTSTART;TZID=America/New_York:20250731T090000
DTEND;TZID=America/New_York:20250731T103000
DTSTAMP:20260423T143534
CREATED:20250731T003447Z
LAST-MODIFIED:20250731T003447Z
UID:3872-1753952400-1753957800@vetteclub.org
SUMMARY:CCND Breakfast – Rt40 Diner
DESCRIPTION:
URL:https://vetteclub.org/event/ccnd-breakfast-rt40-diner-122/
LOCATION:Route 40 Diner\, 1705 Pulaski Hwy\, Bear\, DE\, 19701\, United States
CATEGORIES:Social Events
END:VEVENT
BEGIN:VEVENT
DTSTART;TZID=America/New_York:20250729T180000
DTEND;TZID=America/New_York:20250729T203000
DTSTAMP:20260423T143534
CREATED:20250621T012627Z
LAST-MODIFIED:20250621T012627Z
UID:3837-1753812000-1753821000@vetteclub.org
SUMMARY:CCND Dinner - Schaeffer's Canal House
DESCRIPTION:We are going to Schaeffer’s Canal House located at 208 Bank Street\, Chesapeake\, MD 21915 on Tuesday July 29th\, 2025 for a 6PM reservation. \n\n\n\n\nIf you plan on attending dinner:\n \nAfter clicking on the link below\, you will be brought to a page where you can click on the RSVP NOW button. You will then be asked to input your name\, click yes\, you are attending and how many are attending. When the information is completed\, you can click the new RSVP Now button and I will receive your response.\n\n\n\n\n\n \nhttps://www.signupgenius.com/go/8050D44AFA729A0FA7-57350636-ccnd
URL:https://vetteclub.org/event/ccnd-dinner-schaeffers-canal-house-3/
LOCATION:Schaefer’s Canal House\, 208 Bank St.\, Chesapeake City\, MD\, 21915\, United States
CATEGORIES:Social Events
END:VEVENT
BEGIN:VEVENT
DTSTART;TZID=America/New_York:20250705T150000
DTEND;TZID=America/New_York:20250705T200000
DTSTAMP:20260423T143534
CREATED:20250520T010133Z
LAST-MODIFIED:20250520T010133Z
UID:3792-1751727600-1751745600@vetteclub.org
SUMMARY:CCND 2nd Annual PotLuck Pool Party
DESCRIPTION:Jim and Joann Stevens have graciously invited us for their 2nd annual CCND PotLuck Pool Party on Saturday\, July 5th with a rain date of Sunday\, July 6th at 3 PM. We had a lot of fun last time and hope you can join us this year! \n \nThe Steven’s address is 7 Anderson Lane Newark\, DE 19711\n \nThis is a BYOB event and please sign up for a food or paper goods item. See below:\n \nI have set up food and paper good slots for you to sign up for what you want to bring. Knowing the number needed in each slot is difficult as we don’t know how many will be attending. I will be checking the sign ups periodically and may adjust the numbers in each slot or add a category as needed. i.e. we may need condiments\, but that is unknown at this time.  Let me know if you want to bring something in a closed slot and I can probably add a  slot  for you. \n \nPlease let me know if I forgot a category that should be included. Thanks\n \nDon’t forget to bring your bathing suit and towel!\n \nhttps://www.signupgenius.com/go/8050D44AFA729A0FA7-56978152-ccnd
URL:https://vetteclub.org/event/ccnd-2nd-annual-potluck-pool-party/
LOCATION:Jim and Joann Stevens\, 7 Anderson Lane\, Newark\, DE\, 19711\, United States
CATEGORIES:Social Events
END:VEVENT
BEGIN:VEVENT
DTSTART;TZID=America/New_York:20250619T180000
DTEND;TZID=America/New_York:20250619T200000
DTSTAMP:20260423T143534
CREATED:20250522T224817Z
LAST-MODIFIED:20250522T224817Z
UID:3795-1750356000-1750363200@vetteclub.org
SUMMARY:CCND Dinner - Mexican Table
DESCRIPTION:We are going to the Mexican Table located at 7288 Lancaster Pike\, Hockessin\, DE 19707  on Thursday\, June 19th\, 2025 for a 6PM reservation. \n\nThe restaurant prefers cash and will charge 3% for all charges made. \n\n\n\n\nIf you plan on attending dinner:\n \nAfter clicking on the link below\, you will be brought to a page where you can click on the RSVP NOW button. You will then be asked to input your name\, click yes\, you are attending and how many are attending. When the information is completed\, you can click the new RSVP Now button and I will receive your response.\n\n\n\n\n\n\nhttps://www.signupgenius.com/go/8050D44AFA729A0FA7-57039213-ccnd
URL:https://vetteclub.org/event/ccnd-dinner-mexican-table/
LOCATION:7288 Lancaster Pike\, 7288 Lancaster Pike\, Hockessin\, DE\, 19707\, United States
CATEGORIES:Social Events
END:VEVENT
BEGIN:VEVENT
DTSTART;TZID=America/New_York:20250619T090000
DTEND;TZID=America/New_York:20250619T103000
DTSTAMP:20260423T143534
CREATED:20250203T152152Z
LAST-MODIFIED:20250203T152152Z
UID:3686-1750323600-1750329000@vetteclub.org
SUMMARY:CCND Breakfast – Rt40 Diner
DESCRIPTION:
URL:https://vetteclub.org/event/ccnd-breakfast-rt40-diner-121/
LOCATION:Route 40 Diner\, 1705 Pulaski Hwy\, Bear\, DE\, 19701\, United States
CATEGORIES:Social Events
END:VEVENT
BEGIN:VEVENT
DTSTART;TZID=America/New_York:20250605T090000
DTEND;TZID=America/New_York:20250605T103000
DTSTAMP:20260423T143534
CREATED:20250203T152112Z
LAST-MODIFIED:20250203T152112Z
UID:3684-1749114000-1749119400@vetteclub.org
SUMMARY:CCND Breakfast – Rt40 Diner
DESCRIPTION:
URL:https://vetteclub.org/event/ccnd-breakfast-rt40-diner-120/
LOCATION:Route 40 Diner\, 1705 Pulaski Hwy\, Bear\, DE\, 19701\, United States
CATEGORIES:Social Events
END:VEVENT
BEGIN:VEVENT
DTSTART;TZID=America/New_York:20250529T090000
DTEND;TZID=America/New_York:20250529T103000
DTSTAMP:20260423T143534
CREATED:20250203T152031Z
LAST-MODIFIED:20250203T152031Z
UID:3682-1748509200-1748514600@vetteclub.org
SUMMARY:CCND Breakfast – Destination TBD
DESCRIPTION:
URL:https://vetteclub.org/event/ccnd-breakfast-destination-tbd-2/
LOCATION:Route 40 Diner\, 1705 Pulaski Hwy\, Bear\, DE\, 19701\, United States
CATEGORIES:Social Events
END:VEVENT
BEGIN:VEVENT
DTSTART;TZID=America/New_York:20250527T180000
DTEND;TZID=America/New_York:20250527T200000
DTSTAMP:20260423T143534
CREATED:20250509T174215Z
LAST-MODIFIED:20250509T174215Z
UID:3768-1748368800-1748376000@vetteclub.org
SUMMARY:CCND Dinner - P.F. Chang's - Christiana Mall
DESCRIPTION:  \n\nWe are going to PF Chang in the Christiana Mall  on Tuesday\, May 27th\, 2025 for a 6PM reservation. \n \n\n\n\n\nIf you plan on attending dinner:\n \nAfter clicking on the link below\, you will be brought to a page where you can click on the RSVP NOW button. You will then be asked to input your name\, click yes\, you are attending and how many are attending. When the information is completed\, you can click the new RSVP Now button and I will receive your response.\n\n\n\n\n\n \n \nhttps://www.signupgenius.com/go/8050D44AFA729A0FA7-56797190-ccnd
URL:https://vetteclub.org/event/ccnd-dinner-p-f-changs-christiana-mall/
LOCATION:P.F. Chang’s\, 331 Christiana Mall\, Newark\, DE\, 19702\, United States
CATEGORIES:Social Events
END:VEVENT
BEGIN:VEVENT
DTSTART;TZID=America/New_York:20250515T090000
DTEND;TZID=America/New_York:20250515T103000
DTSTAMP:20260423T143534
CREATED:20250203T151857Z
LAST-MODIFIED:20250203T151857Z
UID:3677-1747299600-1747305000@vetteclub.org
SUMMARY:CCND Breakfast – Rt40 Diner
DESCRIPTION:
URL:https://vetteclub.org/event/ccnd-breakfast-rt40-diner-119/
LOCATION:Route 40 Diner\, 1705 Pulaski Hwy\, Bear\, DE\, 19701\, United States
CATEGORIES:Social Events
END:VEVENT
BEGIN:VEVENT
DTSTART;TZID=America/New_York:20250501T090000
DTEND;TZID=America/New_York:20250501T103000
DTSTAMP:20260423T143534
CREATED:20250203T151817Z
LAST-MODIFIED:20250203T151817Z
UID:3675-1746090000-1746095400@vetteclub.org
SUMMARY:CCND Breakfast – Rt40 Diner
DESCRIPTION:
URL:https://vetteclub.org/event/ccnd-breakfast-rt40-diner-118/
LOCATION:Route 40 Diner\, 1705 Pulaski Hwy\, Bear\, DE\, 19701\, United States
CATEGORIES:Social Events
END:VEVENT
BEGIN:VEVENT
DTSTART;TZID=America/New_York:20250422T180000
DTEND;TZID=America/New_York:20250422T200000
DTSTAMP:20260423T143534
CREATED:20250409T012055Z
LAST-MODIFIED:20250409T012055Z
UID:3748-1745344800-1745352000@vetteclub.org
SUMMARY:CCND Dinner - Urban Kitchen
DESCRIPTION:We are going to Urban Kitchen on Tuesday\, April 22\, 2025 for a 6PM reservation. The restaurant is  located at 3228 Kirkwood Highway (Prices Corner Shopping Center) Wilmington\, DE 19808.\n \n\n\n\n\nIf you plan on attending dinner:\n \nAfter clicking on the link below\, you will be brought to a page where you can click on the RSVP NOW button. You will then be asked to input your name\, click yes\, you are attending and how many are attending. When the information is completed\, you can click the new RSVP Now button and I will receive your response.\n\n\n\n\n\n\n\n\nhttps://www.signupgenius.com/go/8050D44AFA729A0FA7-56098189-ccnd
URL:https://vetteclub.org/event/ccnd-dinner-urban-kitchen/
LOCATION:Urban Kitchen\, 3228 Kirkwood Highway (Prices Corner Shopping Center)\, WIlmington\, DE\, 19808\, United States
CATEGORIES:Social Events
END:VEVENT
BEGIN:VEVENT
DTSTART;TZID=America/New_York:20250417T090000
DTEND;TZID=America/New_York:20250417T103000
DTSTAMP:20260423T143534
CREATED:20250203T151738Z
LAST-MODIFIED:20250203T151738Z
UID:3673-1744880400-1744885800@vetteclub.org
SUMMARY:CCND Breakfast – Rt40 Diner
DESCRIPTION:
URL:https://vetteclub.org/event/ccnd-breakfast-rt40-diner-117/
LOCATION:Route 40 Diner\, 1705 Pulaski Hwy\, Bear\, DE\, 19701\, United States
CATEGORIES:Social Events
END:VEVENT
BEGIN:VEVENT
DTSTART;TZID=America/New_York:20250403T090000
DTEND;TZID=America/New_York:20250403T103000
DTSTAMP:20260423T143534
CREATED:20250203T151701Z
LAST-MODIFIED:20250203T151701Z
UID:3671-1743670800-1743676200@vetteclub.org
SUMMARY:CCND Breakfast – Rt40 Diner
DESCRIPTION:
URL:https://vetteclub.org/event/ccnd-breakfast-rt40-diner-116/
LOCATION:Route 40 Diner\, 1705 Pulaski Hwy\, Bear\, DE\, 19701\, United States
CATEGORIES:Social Events
END:VEVENT
BEGIN:VEVENT
DTSTART;TZID=America/New_York:20250320T090000
DTEND;TZID=America/New_York:20250320T103000
DTSTAMP:20260423T143534
CREATED:20250203T151607Z
LAST-MODIFIED:20250203T151607Z
UID:3669-1742461200-1742466600@vetteclub.org
SUMMARY:CCND Breakfast – Rt40 Diner
DESCRIPTION:
URL:https://vetteclub.org/event/ccnd-breakfast-rt40-diner-115/
LOCATION:Route 40 Diner\, 1705 Pulaski Hwy\, Bear\, DE\, 19701\, United States
CATEGORIES:Social Events
END:VEVENT
BEGIN:VEVENT
DTSTART;TZID=America/New_York:20250318T180000
DTEND;TZID=America/New_York:20250318T200000
DTSTAMP:20260423T143534
CREATED:20250312T194630Z
LAST-MODIFIED:20250312T194630Z
UID:3740-1742320800-1742328000@vetteclub.org
SUMMARY:CCND Dinner - Limestone BBQ and Bourbon
DESCRIPTION:We are going to Limestone BBQ and Bourbon on Tuesday\, March 18th for a 6PM reservation. The restaurant is  located at 2062 Limestone RD  Wilmington\, DE 19808.\n \nFor those who may not know\, this restaurant is now a sit down restaurant instead of ordering at the counter. This was new to me when I called the restaurant since I haven’t been there for awhile. \n         \nIf you plan on attending dinner:\nAfter clicking on the link below\, you will be brought to a page where you can click on the RSVP NOW button. You will then be asked to input your name\, click yes\, you are attending and how many are attending. When the information is completed\, you can click the new RSVP Now button and I will receive your response.\n\nhttps://www.signupgenius.com/go/8050D44AFA729A0FA7-55598541-march
URL:https://vetteclub.org/event/ccnd-dinner-limestone-bbq-and-bourbon/
LOCATION:Limestone BBQ and Bourbon\, 2062 Limestone RD\, Wilmington\, DE\, 19808\, United States
CATEGORIES:Social Events
END:VEVENT
BEGIN:VEVENT
DTSTART;TZID=America/New_York:20250306T090000
DTEND;TZID=America/New_York:20250306T103000
DTSTAMP:20260423T143534
CREATED:20250203T151517Z
LAST-MODIFIED:20250203T151517Z
UID:3667-1741251600-1741257000@vetteclub.org
SUMMARY:CCND Breakfast – Rt40 Diner
DESCRIPTION:
URL:https://vetteclub.org/event/ccnd-breakfast-rt40-diner-114/
LOCATION:Route 40 Diner\, 1705 Pulaski Hwy\, Bear\, DE\, 19701\, United States
CATEGORIES:Social Events
END:VEVENT
BEGIN:VEVENT
DTSTART;TZID=America/New_York:20250227T180000
DTEND;TZID=America/New_York:20250227T200000
DTSTAMP:20260423T143534
CREATED:20250220T162135Z
LAST-MODIFIED:20250221T013602Z
UID:3719-1740679200-1740686400@vetteclub.org
SUMMARY:CCND Dinner - Vincente’s
DESCRIPTION:We are going to Vincente’s Restaurant on Thursday\, February 27th Dinner. The restaurant is  located at 5914 Kirkwood Highway Wilmington\, DE 19808 for a 6 pm reservation..\n\n           If you plan on attending dinner:\nAfter clicking on the link below\, you will be brought to a page where you can click on the RSVP NOW button. You will then be asked to input your name\, click yes\, you are attending and how many are attending. When the information is completed\, you can click the new RSVP Now button and I will receive your response.\n \nhttps://www.signupgenius.com/go/8050D44AFA729A0FA7-54984915-ccnd
URL:https://vetteclub.org/event/ccnd-dinner-vincentes/
LOCATION:Vincente’s\, 5914 Kirkwood Hwy\, Wilmington\, DE\, 19808\, United States
CATEGORIES:Social Events
END:VEVENT
BEGIN:VEVENT
DTSTART;TZID=America/New_York:20250220T090000
DTEND;TZID=America/New_York:20250220T103000
DTSTAMP:20260423T143534
CREATED:20250203T151433Z
LAST-MODIFIED:20250203T151433Z
UID:3665-1740042000-1740047400@vetteclub.org
SUMMARY:CCND Breakfast – Rt40 Diner
DESCRIPTION:
URL:https://vetteclub.org/event/ccnd-breakfast-rt40-diner-113/
LOCATION:Route 40 Diner\, 1705 Pulaski Hwy\, Bear\, DE\, 19701\, United States
CATEGORIES:Social Events
END:VEVENT
BEGIN:VEVENT
DTSTART;TZID=America/New_York:20250206T090000
DTEND;TZID=America/New_York:20250206T103000
DTSTAMP:20260423T143534
CREATED:20250203T151334Z
LAST-MODIFIED:20250203T151334Z
UID:3663-1738832400-1738837800@vetteclub.org
SUMMARY:CCND Breakfast – Rt40 Diner
DESCRIPTION:
URL:https://vetteclub.org/event/ccnd-breakfast-rt40-diner-112/
LOCATION:Route 40 Diner\, 1705 Pulaski Hwy\, Bear\, DE\, 19701\, United States
CATEGORIES:Social Events
END:VEVENT
BEGIN:VEVENT
DTSTART;TZID=America/New_York:20250102T090000
DTEND;TZID=America/New_York:20250102T103000
DTSTAMP:20260423T143534
CREATED:20241210T174700Z
LAST-MODIFIED:20241210T174700Z
UID:3579-1735808400-1735813800@vetteclub.org
SUMMARY:CCND Breakfast – Rt40 Diner
DESCRIPTION:
URL:https://vetteclub.org/event/ccnd-breakfast-rt40-diner-111/
LOCATION:Route 40 Diner\, 1705 Pulaski Hwy\, Bear\, DE\, 19701\, United States
CATEGORIES:Social Events
END:VEVENT
BEGIN:VEVENT
DTSTART;TZID=America/New_York:20241219T080000
DTEND;TZID=America/New_York:20241219T103000
DTSTAMP:20260423T143534
CREATED:20241120T195650Z
LAST-MODIFIED:20241120T195650Z
UID:3548-1734595200-1734604200@vetteclub.org
SUMMARY:CCND Breakfast – Rt40 Diner
DESCRIPTION:
URL:https://vetteclub.org/event/ccnd-breakfast-rt40-diner-110/
LOCATION:DE
CATEGORIES:Social Events
END:VEVENT
BEGIN:VEVENT
DTSTART;TZID=America/New_York:20241218T180000
DTEND;TZID=America/New_York:20241218T203000
DTSTAMP:20260423T143534
CREATED:20241120T200152Z
LAST-MODIFIED:20241120T200152Z
UID:3550-1734544800-1734553800@vetteclub.org
SUMMARY:CCND Diner – Crooked Hammock
DESCRIPTION:We are going to Crooked Hammock on Wednesday\,  December 18h for a 6PM reservation. The address is 316 Auto Park Dr\, Middletown\, DE 19709\n\n\n\n\n\n\n\n\n\n\nIf you plan on attending dinner:\n \nAfter clicking on the link below\, you will be brought to a page where you can click on the RSVP NOW button. You will then be asked to input your name\, click yes\, you are attending and how many are attending. When the information is completed\, you can click the new RSVP Now button and I will receive your response. \n\n\n\n\n\n\n\n\n\n\n\nhttps://www.signupgenius.com/go/8050D44AFA729A0FA7-53443949-ccnd
URL:https://vetteclub.org/event/ccnd-diner-crooked-hammock/
LOCATION:Crooked Hammock\, 316 Auto Park Dr\, Middletown\, DE\, 19709\, United States
CATEGORIES:Social Events
END:VEVENT
BEGIN:VEVENT
DTSTART;TZID=America/New_York:20241205T080000
DTEND;TZID=America/New_York:20241205T103000
DTSTAMP:20260423T143534
CREATED:20241120T195606Z
LAST-MODIFIED:20241120T195712Z
UID:3546-1733385600-1733394600@vetteclub.org
SUMMARY:CCND Breakfast – Rt40 Diner
DESCRIPTION:
URL:https://vetteclub.org/event/ccnd-breakfast-rt40-diner-109/
LOCATION:Route 40 Diner\, 1705 Pulaski Hwy\, Bear\, DE\, 19701\, United States
CATEGORIES:Social Events
END:VEVENT
BEGIN:VEVENT
DTSTART;TZID=America/New_York:20241121T080000
DTEND;TZID=America/New_York:20241121T103000
DTSTAMP:20260423T143534
CREATED:20241120T195526Z
LAST-MODIFIED:20241120T195526Z
UID:3544-1732176000-1732185000@vetteclub.org
SUMMARY:CCND Breakfast – Rt40 Diner
DESCRIPTION:Good Morning\,\nThursday (11/21/24) is the 3rd Thursday of the month so we’ll plan having breakfast at the Route 40 Diner. \n1705 Pulaski Highway\, Bear DE. \nWe order about 9 am\, most members arrive about 8:30 am or before. \nPlease stop by for a great breakfast and car talk!!
URL:https://vetteclub.org/event/ccnd-breakfast-rt40-diner-108/
LOCATION:Route 40 Diner\, 1705 Pulaski Hwy\, Bear\, DE\, 19701\, United States
CATEGORIES:Social Events
END:VEVENT
BEGIN:VEVENT
DTSTART;TZID=America/New_York:20240919T090000
DTEND;TZID=America/New_York:20240919T103000
DTSTAMP:20260423T143534
CREATED:20240620T020210Z
LAST-MODIFIED:20240620T020210Z
UID:3435-1726736400-1726741800@vetteclub.org
SUMMARY:CCND Breakfast – Rt40 Diner
DESCRIPTION:
URL:https://vetteclub.org/event/ccnd-breakfast-rt40-diner-107/
LOCATION:Route 40 Diner\, 1705 Pulaski Hwy\, Bear\, DE\, 19701\, United States
CATEGORIES:Social Events
END:VEVENT
BEGIN:VEVENT
DTSTART;TZID=America/New_York:20240907T160000
DTEND;TZID=America/New_York:20240907T190000
DTSTAMP:20260423T143534
CREATED:20240101T011706Z
LAST-MODIFIED:20240101T011706Z
UID:3286-1725724800-1725735600@vetteclub.org
SUMMARY:CCND Cruise-in - Fox Run Shopping Center
DESCRIPTION:
URL:https://vetteclub.org/event/ccnd-cruise-in-fox-run-shopping-center-27/
LOCATION:Fox Run Shopping Center\, Fox Hunt Dr\, Bear\, DE\, 19701\, United States
CATEGORIES:Social Events
END:VEVENT
BEGIN:VEVENT
DTSTART;TZID=America/New_York:20240905T090000
DTEND;TZID=America/New_York:20240905T103000
DTSTAMP:20260423T143534
CREATED:20240620T020126Z
LAST-MODIFIED:20240620T020126Z
UID:3433-1725526800-1725532200@vetteclub.org
SUMMARY:CCND Breakfast – Rt40 Diner
DESCRIPTION:
URL:https://vetteclub.org/event/ccnd-breakfast-rt40-diner-106/
LOCATION:Route 40 Diner\, 1705 Pulaski Hwy\, Bear\, DE\, 19701\, United States
CATEGORIES:Social Events
END:VEVENT
END:VCALENDAR