BEGIN:VCALENDAR
VERSION:2.0
PRODID:-//Corvette Club of Northern Delaware - ECPv6.15.20//NONSGML v1.0//EN
CALSCALE:GREGORIAN
METHOD:PUBLISH
X-ORIGINAL-URL:https://vetteclub.org
X-WR-CALDESC:Events for Corvette Club of Northern Delaware
REFRESH-INTERVAL;VALUE=DURATION:PT1H
X-Robots-Tag:noindex
X-PUBLISHED-TTL:PT1H
BEGIN:VTIMEZONE
TZID:America/New_York
BEGIN:DAYLIGHT
TZOFFSETFROM:-0500
TZOFFSETTO:-0400
TZNAME:EDT
DTSTART:20200308T070000
END:DAYLIGHT
BEGIN:STANDARD
TZOFFSETFROM:-0400
TZOFFSETTO:-0500
TZNAME:EST
DTSTART:20201101T060000
END:STANDARD
BEGIN:DAYLIGHT
TZOFFSETFROM:-0500
TZOFFSETTO:-0400
TZNAME:EDT
DTSTART:20210314T070000
END:DAYLIGHT
BEGIN:STANDARD
TZOFFSETFROM:-0400
TZOFFSETTO:-0500
TZNAME:EST
DTSTART:20211107T060000
END:STANDARD
BEGIN:DAYLIGHT
TZOFFSETFROM:-0500
TZOFFSETTO:-0400
TZNAME:EDT
DTSTART:20220313T070000
END:DAYLIGHT
BEGIN:STANDARD
TZOFFSETFROM:-0400
TZOFFSETTO:-0500
TZNAME:EST
DTSTART:20221106T060000
END:STANDARD
BEGIN:DAYLIGHT
TZOFFSETFROM:-0500
TZOFFSETTO:-0400
TZNAME:EDT
DTSTART:20230312T070000
END:DAYLIGHT
BEGIN:STANDARD
TZOFFSETFROM:-0400
TZOFFSETTO:-0500
TZNAME:EST
DTSTART:20231105T060000
END:STANDARD
END:VTIMEZONE
BEGIN:VEVENT
DTSTART;TZID=America/New_York:20220507T160000
DTEND;TZID=America/New_York:20220507T200000
DTSTAMP:20260424T102249
CREATED:20220111T211031Z
LAST-MODIFIED:20220111T211031Z
UID:2554-1651939200-1651953600@vetteclub.org
SUMMARY:CCND Cruise-in @ Fox Run Shopping Center
DESCRIPTION:
URL:https://vetteclub.org/event/ccnd-cruise-in-fox-run-shopping-center-9/
LOCATION:Fox Run Shopping Center\, Fox Hunt Dr\, Bear\, DE\, 19701\, United States
CATEGORIES:Social Events
END:VEVENT
BEGIN:VEVENT
DTSTART;TZID=America/New_York:20220505T090000
DTEND;TZID=America/New_York:20220505T103000
DTSTAMP:20260424T102249
CREATED:20220305T025736Z
LAST-MODIFIED:20220305T025736Z
UID:2635-1651741200-1651746600@vetteclub.org
SUMMARY:CCND Breakfast - Rt40 Diner
DESCRIPTION:
URL:https://vetteclub.org/event/ccnd-breakfast-rt40-diner-41/
LOCATION:Route 40 Diner\, 1705 Pulaski Hwy\, Bear\, DE\, 19701\, United States
CATEGORIES:Social Events
END:VEVENT
BEGIN:VEVENT
DTSTART;TZID=America/New_York:20220421T090000
DTEND;TZID=America/New_York:20220421T103000
DTSTAMP:20260424T102249
CREATED:20220305T025645Z
LAST-MODIFIED:20220305T025645Z
UID:2633-1650531600-1650537000@vetteclub.org
SUMMARY:CCND Breakfast - Rt40 Diner
DESCRIPTION:
URL:https://vetteclub.org/event/ccnd-breakfast-rt40-diner-40/
LOCATION:Route 40 Diner\, 1705 Pulaski Hwy\, Bear\, DE\, 19701\, United States
CATEGORIES:Social Events
END:VEVENT
BEGIN:VEVENT
DTSTART;TZID=America/New_York:20220419T180000
DTEND;TZID=America/New_York:20220419T203000
DTSTAMP:20260424T102249
CREATED:20220325T230320Z
LAST-MODIFIED:20220325T230320Z
UID:2666-1650391200-1650400200@vetteclub.org
SUMMARY:CCND Dinner @ Little Vinnies
DESCRIPTION:
URL:https://vetteclub.org/event/ccnd-dinner-little-vinnies/
LOCATION:Little Vinnies\, 1706 Faukland Rd\, Wilmington\, DE\, 19805\, United States
CATEGORIES:Social Events
END:VEVENT
BEGIN:VEVENT
DTSTART;TZID=America/New_York:20220407T090000
DTEND;TZID=America/New_York:20220407T103000
DTSTAMP:20260424T102249
CREATED:20220305T025554Z
LAST-MODIFIED:20220305T025554Z
UID:2631-1649322000-1649327400@vetteclub.org
SUMMARY:CCND Breakfast - Rt40 Diner
DESCRIPTION:
URL:https://vetteclub.org/event/ccnd-breakfast-rt40-diner-39/
LOCATION:Route 40 Diner\, 1705 Pulaski Hwy\, Bear\, DE\, 19701\, United States
CATEGORIES:Social Events
END:VEVENT
BEGIN:VEVENT
DTSTART;TZID=America/New_York:20220402T150000
DTEND;TZID=America/New_York:20220402T190000
DTSTAMP:20260424T102249
CREATED:20220111T210946Z
LAST-MODIFIED:20220111T210946Z
UID:2552-1648911600-1648926000@vetteclub.org
SUMMARY:CCND Cruise-in @ Fox Run Shopping Center
DESCRIPTION:
URL:https://vetteclub.org/event/ccnd-cruise-in-fox-run-shopping-center-8/
LOCATION:Fox Run Shopping Center\, Fox Hunt Dr\, Bear\, DE\, 19701\, United States
CATEGORIES:Social Events
END:VEVENT
BEGIN:VEVENT
DTSTART;TZID=America/New_York:20220331T090000
DTEND;TZID=America/New_York:20220331T103000
DTSTAMP:20260424T102249
CREATED:20220104T185508Z
LAST-MODIFIED:20220104T185508Z
UID:2541-1648717200-1648722600@vetteclub.org
SUMMARY:CCND Breakfast - Rt40 Diner
DESCRIPTION:
URL:https://vetteclub.org/event/ccnd-breakfast-rt40-diner-38/
LOCATION:Route 40 Diner\, 1705 Pulaski Hwy\, Bear\, DE\, 19701\, United States
CATEGORIES:Social Events
END:VEVENT
BEGIN:VEVENT
DTSTART;TZID=America/New_York:20220323T180000
DTEND;TZID=America/New_York:20220323T200000
DTSTAMP:20260424T102249
CREATED:20220305T024922Z
LAST-MODIFIED:20220305T024922Z
UID:2628-1648058400-1648065600@vetteclub.org
SUMMARY:CCND Dinner - Buckley’s Tavern
DESCRIPTION:
URL:https://vetteclub.org/event/ccnd-dinner-buckleys-tavern/
LOCATION:Buckley’s Tavern\, 5812 Kennett Pike\, Wilmington\, DE\, 19807\, United States
CATEGORIES:Social Events
END:VEVENT
BEGIN:VEVENT
DTSTART;TZID=America/New_York:20220317T090000
DTEND;TZID=America/New_York:20220317T103000
DTSTAMP:20260424T102249
CREATED:20220104T185437Z
LAST-MODIFIED:20220104T185437Z
UID:2539-1647507600-1647513000@vetteclub.org
SUMMARY:CCND Breakfast - Rt40 Diner
DESCRIPTION:
URL:https://vetteclub.org/event/ccnd-breakfast-rt40-diner-37/
LOCATION:Route 40 Diner\, 1705 Pulaski Hwy\, Bear\, DE\, 19701\, United States
CATEGORIES:Social Events
END:VEVENT
BEGIN:VEVENT
DTSTART;TZID=America/New_York:20220303T090000
DTEND;TZID=America/New_York:20220303T103000
DTSTAMP:20260424T102249
CREATED:20220104T185336Z
LAST-MODIFIED:20220104T185336Z
UID:2537-1646298000-1646303400@vetteclub.org
SUMMARY:CCND Breakfast - Rt40 Diner
DESCRIPTION:
URL:https://vetteclub.org/event/ccnd-breakfast-rt40-diner-36/
LOCATION:Route 40 Diner\, 1705 Pulaski Hwy\, Bear\, DE\, 19701\, United States
CATEGORIES:Social Events
END:VEVENT
BEGIN:VEVENT
DTSTART;TZID=America/New_York:20220217T180000
DTEND;TZID=America/New_York:20220217T200000
DTSTAMP:20260424T102249
CREATED:20220131T234632Z
LAST-MODIFIED:20220131T234632Z
UID:2615-1645120800-1645128000@vetteclub.org
SUMMARY:CCND Dinner - Chuck Lager America's Tavern
DESCRIPTION:
URL:https://vetteclub.org/event/ccnd-dinner-chuck-lager-americas-tavern/
LOCATION:Chuck Lager America’s Tavern\, 4500 New Linden Hill Rd\, Wilmington\, DE\, 19808\, United States
CATEGORIES:Social Events
END:VEVENT
BEGIN:VEVENT
DTSTART;TZID=America/New_York:20220217T090000
DTEND;TZID=America/New_York:20220217T103000
DTSTAMP:20260424T102249
CREATED:20220104T185259Z
LAST-MODIFIED:20220104T185259Z
UID:2535-1645088400-1645093800@vetteclub.org
SUMMARY:CCND Breakfast - Rt40 Diner
DESCRIPTION:
URL:https://vetteclub.org/event/ccnd-breakfast-rt40-diner-35/
LOCATION:Route 40 Diner\, 1705 Pulaski Hwy\, Bear\, DE\, 19701\, United States
CATEGORIES:Social Events
END:VEVENT
BEGIN:VEVENT
DTSTART;TZID=America/New_York:20220211T110000
DTEND;TZID=America/New_York:20220211T140000
DTSTAMP:20260424T102249
CREATED:20220210T171447Z
LAST-MODIFIED:20220210T171447Z
UID:2623-1644577200-1644588000@vetteclub.org
SUMMARY:CCND - Lunch Cruise Lapp’s Restaurant
DESCRIPTION:Meet at Newark Country Club at 10:45. Depart at 11:00 AM
URL:https://vetteclub.org/event/ccnd-lunch-cruise-lapps-restaurant/
LOCATION:Lapp’s Restaurant
CATEGORIES:Social Events
END:VEVENT
BEGIN:VEVENT
DTSTART;TZID=America/New_York:20220203T090000
DTEND;TZID=America/New_York:20220203T103000
DTSTAMP:20260424T102249
CREATED:20220104T185222Z
LAST-MODIFIED:20220104T185222Z
UID:2533-1643878800-1643884200@vetteclub.org
SUMMARY:CCND Breakfast - Rt40 Diner
DESCRIPTION:
URL:https://vetteclub.org/event/ccnd-breakfast-rt40-diner-34/
LOCATION:Route 40 Diner\, 1705 Pulaski Hwy\, Bear\, DE\, 19701\, United States
CATEGORIES:Social Events
END:VEVENT
BEGIN:VEVENT
DTSTART;TZID=America/New_York:20220120T090000
DTEND;TZID=America/New_York:20220120T103000
DTSTAMP:20260424T102249
CREATED:20220104T185133Z
LAST-MODIFIED:20220104T185133Z
UID:2531-1642669200-1642674600@vetteclub.org
SUMMARY:CCND Breakfast - Rt40 Diner
DESCRIPTION:
URL:https://vetteclub.org/event/ccnd-breakfast-rt40-diner-28/
LOCATION:Route 40 Diner\, 1705 Pulaski Hwy\, Bear\, DE\, 19701\, United States
CATEGORIES:Social Events
END:VEVENT
BEGIN:VEVENT
DTSTART;TZID=America/New_York:20220108T180000
DTEND;TZID=America/New_York:20220108T220000
DTSTAMP:20260424T102249
CREATED:20211101T163339Z
LAST-MODIFIED:20211101T163339Z
UID:2513-1641664800-1641679200@vetteclub.org
SUMMARY:CCND Holiday Party @ The Rail Delaware Park
DESCRIPTION:
URL:https://vetteclub.org/event/ccnd-holiday-party-the-rail-delaware-park/
LOCATION:The Rail\, 777 Delaware Park Blvd\, Wilmington\, DE\, 19804\, United States
CATEGORIES:Social Events
END:VEVENT
BEGIN:VEVENT
DTSTART;TZID=America/New_York:20220106T090000
DTEND;TZID=America/New_York:20220106T103000
DTSTAMP:20260424T102249
CREATED:20220104T185016Z
LAST-MODIFIED:20220104T185046Z
UID:2528-1641459600-1641465000@vetteclub.org
SUMMARY:CCND Breakfast - Rt40 Diner
DESCRIPTION:
URL:https://vetteclub.org/event/ccnd-breakfast-rt-40-diner/
LOCATION:Route 40 Diner\, 1705 Pulaski Hwy\, Bear\, DE\, 19701\, United States
CATEGORIES:Social Events
END:VEVENT
BEGIN:VEVENT
DTSTART;TZID=America/New_York:20211230T090000
DTEND;TZID=America/New_York:20211230T103000
DTSTAMP:20260424T102249
CREATED:20211101T161734Z
LAST-MODIFIED:20211101T161734Z
UID:2506-1640854800-1640860200@vetteclub.org
SUMMARY:CCND Breakfast @ Rt40 Diner
DESCRIPTION:
URL:https://vetteclub.org/event/ccnd-breakfast-rt40-diner-33/
LOCATION:Route 40 Diner\, 1705 Pulaski Hwy\, Bear\, DE\, 19701\, United States
CATEGORIES:Social Events
END:VEVENT
BEGIN:VEVENT
DTSTART;TZID=America/New_York:20211216T090000
DTEND;TZID=America/New_York:20211216T103000
DTSTAMP:20260424T102249
CREATED:20211101T161658Z
LAST-MODIFIED:20211101T161658Z
UID:2504-1639645200-1639650600@vetteclub.org
SUMMARY:CCND Breakfast @ Rt40 Diner
DESCRIPTION:
URL:https://vetteclub.org/event/ccnd-breakfast-rt40-diner-32/
LOCATION:Route 40 Diner\, 1705 Pulaski Hwy\, Bear\, DE\, 19701\, United States
CATEGORIES:Social Events
END:VEVENT
BEGIN:VEVENT
DTSTART;TZID=America/New_York:20211202T090000
DTEND;TZID=America/New_York:20211202T103000
DTSTAMP:20260424T102249
CREATED:20211101T161616Z
LAST-MODIFIED:20211101T161616Z
UID:2502-1638435600-1638441000@vetteclub.org
SUMMARY:CCND Breakfast @ Rt40 Diner
DESCRIPTION:
URL:https://vetteclub.org/event/ccnd-breakfast-rt40-diner-31/
LOCATION:Route 40 Diner\, 1705 Pulaski Hwy\, Bear\, DE\, 19701\, United States
CATEGORIES:Social Events
END:VEVENT
BEGIN:VEVENT
DTSTART;TZID=America/New_York:20211130T180000
DTEND;TZID=America/New_York:20211130T203000
DTSTAMP:20260424T102249
CREATED:20211101T162158Z
LAST-MODIFIED:20211101T162158Z
UID:2508-1638295200-1638304200@vetteclub.org
SUMMARY:CCND Dinner - Anthony Coal Fired Pizza
DESCRIPTION:
URL:https://vetteclub.org/event/ccnd-dinner-anthony-coal-fired-pizza/
LOCATION:Anthony Coal Fired Pizza\, 4805 Limestone Rd.\, Pike Creek\, DE\, 19808\, United States
CATEGORIES:Social Events
END:VEVENT
BEGIN:VEVENT
DTSTART;TZID=America/New_York:20211118T090000
DTEND;TZID=America/New_York:20211118T103000
DTSTAMP:20260424T102249
CREATED:20211101T161541Z
LAST-MODIFIED:20211101T161541Z
UID:2500-1637226000-1637231400@vetteclub.org
SUMMARY:CCND Breakfast @ Rt40 Diner
DESCRIPTION:
URL:https://vetteclub.org/event/ccnd-breakfast-rt40-diner-30/
LOCATION:Route 40 Diner\, 1705 Pulaski Hwy\, Bear\, DE\, 19701\, United States
CATEGORIES:Social Events
END:VEVENT
BEGIN:VEVENT
DTSTART;TZID=America/New_York:20211104T090000
DTEND;TZID=America/New_York:20211104T103000
DTSTAMP:20260424T102249
CREATED:20211101T161502Z
LAST-MODIFIED:20211101T161502Z
UID:2498-1636016400-1636021800@vetteclub.org
SUMMARY:CCND Breakfast @ Rt40 Diner
DESCRIPTION:
URL:https://vetteclub.org/event/ccnd-breakfast-rt40-diner-29/
LOCATION:Route 40 Diner\, 1705 Pulaski Hwy\, Bear\, DE\, 19701\, United States
CATEGORIES:Social Events
END:VEVENT
BEGIN:VEVENT
DTSTART;TZID=America/New_York:20211102T160000
DTEND;TZID=America/New_York:20211102T180000
DTSTAMP:20260424T102249
CREATED:20211101T162324Z
LAST-MODIFIED:20211101T162324Z
UID:2511-1635868800-1635876000@vetteclub.org
SUMMARY:CCND - Pickleball & Pizza
DESCRIPTION:Weather permitting
URL:https://vetteclub.org/event/ccnd-pickleball-pizza-3/
LOCATION:Deacons Walk The Bluffs Park\, 1-99 Ware Rd.\, Neewark\, DE\, 19711\, United States
CATEGORIES:Social Events
END:VEVENT
BEGIN:VEVENT
DTSTART;TZID=America/New_York:20211010T080000
DTEND;TZID=America/New_York:20211014T170000
DTSTAMP:20260424T102249
CREATED:20210513T113728Z
LAST-MODIFIED:20210513T113800Z
UID:2328-1633852800-1634230800@vetteclub.org
SUMMARY:Road trip to West Virginia and Virginia
DESCRIPTION:For more information about the trip or to sign-up\, contact Don Nayden at dwn302@comcast.net
URL:https://vetteclub.org/event/road-trip-to-west-virginia-and-virginia/
LOCATION:DE
CATEGORIES:Social Events
END:VEVENT
BEGIN:VEVENT
DTSTART;TZID=America/New_York:20211005T163000
DTEND;TZID=America/New_York:20211005T190000
DTSTAMP:20260424T102249
CREATED:20210907T132801Z
LAST-MODIFIED:20210907T132801Z
UID:2412-1633451400-1633460400@vetteclub.org
SUMMARY:CCND - Pickleball & Pizza
DESCRIPTION:Bring your own drinks and we will order pizza with the cost to be shared.
URL:https://vetteclub.org/event/ccnd-pickleball-pizza-2/
LOCATION:Deacons Walk The Bluffs Park\, 1-99 Ware Rd.\, Neewark\, DE\, 19711\, United States
CATEGORIES:Social Events
END:VEVENT
BEGIN:VEVENT
DTSTART;TZID=America/New_York:20211002T150000
DTEND;TZID=America/New_York:20211002T190000
DTSTAMP:20260424T102249
CREATED:20210316T141715Z
LAST-MODIFIED:20210316T141715Z
UID:2264-1633186800-1633201200@vetteclub.org
SUMMARY:CCND Cruise-in @ Fox Run Shopping Center
DESCRIPTION:
URL:https://vetteclub.org/event/ccnd-cruise-in-fox-run-shopping-center-7/
LOCATION:Fox Run Shopping Center\, Fox Hunt Dr\, Bear\, DE\, 19701\, United States
CATEGORIES:Social Events
END:VEVENT
BEGIN:VEVENT
DTSTART;TZID=America/New_York:20210930T090000
DTEND;TZID=America/New_York:20210930T103000
DTSTAMP:20260424T102249
CREATED:20210805T015105Z
LAST-MODIFIED:20210805T015105Z
UID:2371-1632992400-1632997800@vetteclub.org
SUMMARY:CCND Breakfast @ Rt40 Diner
DESCRIPTION:
URL:https://vetteclub.org/event/ccnd-breakfast-rt40-diner-27/
LOCATION:Route 40 Diner\, 1705 Pulaski Hwy\, Bear\, DE\, 19701\, United States
CATEGORIES:Social Events
END:VEVENT
BEGIN:VEVENT
DTSTART;TZID=America/New_York:20210925T074500
DTEND;TZID=America/New_York:20210925T153000
DTSTAMP:20260424T102249
CREATED:20210805T020102Z
LAST-MODIFIED:20210805T020102Z
UID:2373-1632555900-1632583800@vetteclub.org
SUMMARY:Barry’s Car Barn
DESCRIPTION:Meet at Lantana Square at 7:45\, Hockessin\, DE \ndepart for Barry’s Car Barn at 8:00. Lunch on the way home\, location TBD.
URL:https://vetteclub.org/event/barrys-car-barn/
LOCATION:Barry’s Car Barn\, 2554 Steelton Rd\, Lancaster\, PA\, 17601\, United States
CATEGORIES:Social Events
END:VEVENT
BEGIN:VEVENT
DTSTART;TZID=America/New_York:20210918T120000
DTEND;TZID=America/New_York:20210918T180000
DTSTAMP:20260424T102249
CREATED:20210316T131700Z
LAST-MODIFIED:20210316T131700Z
UID:2250-1631966400-1631988000@vetteclub.org
SUMMARY:CCND Picnic @ Lum's Pond
DESCRIPTION:
URL:https://vetteclub.org/event/ccnd-picnic-lums-pond-2/
LOCATION:Lums Pond State Park\, 1068 Howell School Rd.\, Bear\, DE\, 19701\, United States
CATEGORIES:Social Events
END:VEVENT
END:VCALENDAR