BEGIN:VCALENDAR
VERSION:2.0
PRODID:-//Corvette Club of Northern Delaware - ECPv6.15.20//NONSGML v1.0//EN
CALSCALE:GREGORIAN
METHOD:PUBLISH
X-ORIGINAL-URL:https://vetteclub.org
X-WR-CALDESC:Events for Corvette Club of Northern Delaware
REFRESH-INTERVAL;VALUE=DURATION:PT1H
X-Robots-Tag:noindex
X-PUBLISHED-TTL:PT1H
BEGIN:VTIMEZONE
TZID:America/New_York
BEGIN:DAYLIGHT
TZOFFSETFROM:-0500
TZOFFSETTO:-0400
TZNAME:EDT
DTSTART:20210314T070000
END:DAYLIGHT
BEGIN:STANDARD
TZOFFSETFROM:-0400
TZOFFSETTO:-0500
TZNAME:EST
DTSTART:20211107T060000
END:STANDARD
BEGIN:DAYLIGHT
TZOFFSETFROM:-0500
TZOFFSETTO:-0400
TZNAME:EDT
DTSTART:20220313T070000
END:DAYLIGHT
BEGIN:STANDARD
TZOFFSETFROM:-0400
TZOFFSETTO:-0500
TZNAME:EST
DTSTART:20221106T060000
END:STANDARD
BEGIN:DAYLIGHT
TZOFFSETFROM:-0500
TZOFFSETTO:-0400
TZNAME:EDT
DTSTART:20230312T070000
END:DAYLIGHT
BEGIN:STANDARD
TZOFFSETFROM:-0400
TZOFFSETTO:-0500
TZNAME:EST
DTSTART:20231105T060000
END:STANDARD
END:VTIMEZONE
BEGIN:VEVENT
DTSTART;TZID=America/New_York:20221116T180000
DTEND;TZID=America/New_York:20221116T200000
DTSTAMP:20260424T060500
CREATED:20221106T140509Z
LAST-MODIFIED:20221106T140509Z
UID:2885-1668621600-1668628800@vetteclub.org
SUMMARY:CCND Dinner - Ted's Montana Grill
DESCRIPTION:We are going to Ted’s Montana Grill for dinner on Wednesday\, November 16th @ 6 Pm.  The restaurant is located at 3194 Fashion Center Blvd\, Newark\, DE 19702t  @  Hope you can attend!\n \nIf you plan on attending: \n\n\nAfter clicking on the link below\, you will be brought to a page where you can click on the RSVP NOW button. You will then be asked to input your name\, click yes\, you are attending and how many are attending.  When the information is completed\, you can click the new RSVP Now button and I will receive your response. \n\n\nhttps://www.signupgenius.com/go/8050D44AFA729A0FA7-ccnd6\n\n \nDue to NCCC Covid-19 requirements for insurance NOTICE:  Anyone attending any CCND and/or NCCC events are doing so at their own risk.  ALL events are voluntary.
URL:https://vetteclub.org/event/ccnd-dinner-teds-montana-grill-2/
LOCATION:Ted’s Montana Grill\, 3194 Fashion Center Blvd\, Christiana Mall\, Newark\, DE\, 19702\, United States
CATEGORIES:Social Events
END:VEVENT
BEGIN:VEVENT
DTSTART;TZID=America/New_York:20221103T090000
DTEND;TZID=America/New_York:20221103T103000
DTSTAMP:20260424T060500
CREATED:20220906T003220Z
LAST-MODIFIED:20220906T003220Z
UID:2803-1667466000-1667471400@vetteclub.org
SUMMARY:CCND Breakfast - Rt40 Diner
DESCRIPTION:
URL:https://vetteclub.org/event/ccnd-breakfast-rt40-diner-55/
LOCATION:Route 40 Diner\, 1705 Pulaski Hwy\, Bear\, DE\, 19701\, United States
CATEGORIES:Social Events
END:VEVENT
BEGIN:VEVENT
DTSTART;TZID=America/New_York:20221101T080000
DTEND;TZID=America/New_York:20221103T170000
DTSTAMP:20260424T060500
CREATED:20220204T203023Z
LAST-MODIFIED:20220204T203215Z
UID:2618-1667289600-1667494800@vetteclub.org
SUMMARY:CCND Road Trip - Jim Thorpe\, PA
DESCRIPTION:We will be staying at the historic Inn at Jim Thorpe.  I have reserved a block of rooms for our club for these dates. \n\n\n\n\n\nThe Inn was built in 1849 and it is the last remaining grand Victorian hotel from Mauch Chunk’s heyday as a coal transportation town. \n\n\nThere are 43 rooms in the main building at 24 Broadway and additional rooms in a building across the street and at another nearby location. \n\n\nThe Inn has a range of rooms from elegant mini suites to comfortable standard rooms. \n\n\n\n\n\n\nPlease note that the Inn has not set their room rates for November as of February 2022\, so it is too soon for us to call to make our individual reservations. \n\n\nAs soon as I have the rate info from my group sales contact at the Inn\, I will send out an email update to all those who sign up for the trip.
URL:https://vetteclub.org/event/ccnd-road-trip-jim-thorpe-pa/
LOCATION:The Inn @ Jim Thorpe\, 24 Broadway\, Jum Thorpe\, PA\, 18229\, United States
CATEGORIES:Social Events
END:VEVENT
BEGIN:VEVENT
DTSTART;TZID=America/New_York:20221026T180000
DTEND;TZID=America/New_York:20221026T200000
DTSTAMP:20260424T060500
CREATED:20221002T000958Z
LAST-MODIFIED:20221002T000958Z
UID:2871-1666807200-1666814400@vetteclub.org
SUMMARY:CCND Dinner - Big Fish Grill @ Riverfront
DESCRIPTION:
URL:https://vetteclub.org/event/ccnd-dinner-big-fish-grill-riverfront/
LOCATION:Big Fish Grill\, 720 Justison St\, Wilmington\, DE\, 19801\, United States
CATEGORIES:Social Events
END:VEVENT
BEGIN:VEVENT
DTSTART;TZID=America/New_York:20221020T090000
DTEND;TZID=America/New_York:20221020T103000
DTSTAMP:20260424T060500
CREATED:20220906T003136Z
LAST-MODIFIED:20220906T003136Z
UID:2801-1666256400-1666261800@vetteclub.org
SUMMARY:CCND Breakfast - Rt40 Diner
DESCRIPTION:
URL:https://vetteclub.org/event/ccnd-breakfast-rt40-diner-54/
LOCATION:Route 40 Diner\, 1705 Pulaski Hwy\, Bear\, DE\, 19701\, United States
CATEGORIES:Social Events
END:VEVENT
BEGIN:VEVENT
DTSTART;TZID=America/New_York:20221006T090000
DTEND;TZID=America/New_York:20221006T103000
DTSTAMP:20260424T060500
CREATED:20220906T003055Z
LAST-MODIFIED:20220906T003055Z
UID:2799-1665046800-1665052200@vetteclub.org
SUMMARY:CCND Breakfast - Rt40 Diner
DESCRIPTION:
URL:https://vetteclub.org/event/ccnd-breakfast-rt40-diner-53/
LOCATION:Route 40 Diner\, 1705 Pulaski Hwy\, Bear\, DE\, 19701\, United States
CATEGORIES:Social Events
END:VEVENT
BEGIN:VEVENT
DTSTART;TZID=America/New_York:20221001T150000
DTEND;TZID=America/New_York:20221001T190000
DTSTAMP:20260424T060500
CREATED:20220111T211412Z
LAST-MODIFIED:20220111T211412Z
UID:2564-1664636400-1664650800@vetteclub.org
SUMMARY:CCND Cruise-in @ Fox Run Shopping Center
DESCRIPTION:
URL:https://vetteclub.org/event/ccnd-cruise-in-fox-run-shopping-center-14/
LOCATION:Fox Run Shopping Center\, Fox Hunt Dr\, Bear\, DE\, 19701\, United States
CATEGORIES:Social Events
END:VEVENT
BEGIN:VEVENT
DTSTART;TZID=America/New_York:20220929T090000
DTEND;TZID=America/New_York:20220929T103000
DTSTAMP:20260424T060500
CREATED:20220630T160948Z
LAST-MODIFIED:20220630T161107Z
UID:2719-1664442000-1664447400@vetteclub.org
SUMMARY:CCND Breakfast - Rt40 Diner
DESCRIPTION:
URL:https://vetteclub.org/event/ccnd-breakfast-rt40-diner-52/
LOCATION:Route 40 Diner\, 1705 Pulaski Hwy\, Bear\, DE\, 19701\, United States
CATEGORIES:Social Events
END:VEVENT
BEGIN:VEVENT
DTSTART;TZID=America/New_York:20220928T180000
DTEND;TZID=America/New_York:20220928T203000
DTSTAMP:20260424T060500
CREATED:20220915T010240Z
LAST-MODIFIED:20220915T010240Z
UID:2857-1664388000-1664397000@vetteclub.org
SUMMARY:CCND Dinner - La Tonalteca
DESCRIPTION:
URL:https://vetteclub.org/event/ccnd-dinner-la-tonalteca/
LOCATION:La Tonalteca\, 700 Lantana Dr\,\, Hockessin\, DE\, 19707\, United States
CATEGORIES:Social Events
END:VEVENT
BEGIN:VEVENT
DTSTART;TZID=America/New_York:20220915T090000
DTEND;TZID=America/New_York:20220915T103000
DTSTAMP:20260424T060500
CREATED:20220630T160910Z
LAST-MODIFIED:20220630T161036Z
UID:2717-1663232400-1663237800@vetteclub.org
SUMMARY:CCND Breakfast - Rt40 Diner
DESCRIPTION:
URL:https://vetteclub.org/event/ccnd-breakfast-rt40-diner-51/
LOCATION:Route 40 Diner\, 1705 Pulaski Hwy\, Bear\, DE\, 19701\, United States
CATEGORIES:Social Events
END:VEVENT
BEGIN:VEVENT
DTSTART;TZID=America/New_York:20220906T080000
DTEND;TZID=America/New_York:20220906T170000
DTSTAMP:20260424T060500
CREATED:20220707T002933Z
LAST-MODIFIED:20220707T002933Z
UID:2728-1662451200-1662483600@vetteclub.org
SUMMARY:CCND Pickleball - Deacons Walk Park
DESCRIPTION:Tuesday\, August  2nd: Pickle ball and Pizza at the Deacons Walk Neighborhood Park from 5 PM -7 Pm. The park is located at 9 Ware Road Newark\, DE 19711 (off Polly Drummond Rd)  ALL LEVELS WELCOME! \n1. Wear sneakers\, preferably tennis or pickleball shoes. \n2. Bring paddles if you have any ( Paddles are available if you don’t have one) \n3. Bring Money for Pizza and we will order at some point. \n4. Bring your own water/drink \n5. Have fun playing pickleball\, learning a new sport and/or eat dinner with CCND \n6. Let’s hope we have good weather! \nSign up is not mandatory for Pickleball\, but is helpful so we can have nets set up. \nAfter clicking on the link below\, you will be brought to a page where you can click on the RSVP NOW button. You will then be asked to input your name\, click yes\, you are attending and how many are attending.  When the information is completed\, you can click the new RSVP NOW button and I will receive your response. \nhttps://www.signupgenius.com/go/8050D44AFA729A0FA7-august
URL:https://vetteclub.org/event/ccnd-pickleball-deacons-walk-park-4/
LOCATION:Deacons Walk The Bluffs Park\, 1-99 Ware Rd.\, Neewark\, DE\, 19711\, United States
CATEGORIES:Social Events
END:VEVENT
BEGIN:VEVENT
DTSTART;TZID=America/New_York:20220903T160000
DTEND;TZID=America/New_York:20220903T200000
DTSTAMP:20260424T060500
CREATED:20220111T211333Z
LAST-MODIFIED:20220111T211333Z
UID:2562-1662220800-1662235200@vetteclub.org
SUMMARY:CCND Cruise-in @ Fox Run Shopping Center
DESCRIPTION:
URL:https://vetteclub.org/event/ccnd-cruise-in-fox-run-shopping-center-13/
LOCATION:Fox Run Shopping Center\, Fox Hunt Dr\, Bear\, DE\, 19701\, United States
CATEGORIES:Social Events
END:VEVENT
BEGIN:VEVENT
DTSTART;TZID=America/New_York:20220901T090000
DTEND;TZID=America/New_York:20220901T103000
DTSTAMP:20260424T060500
CREATED:20220630T160827Z
LAST-MODIFIED:20220630T160827Z
UID:2715-1662022800-1662028200@vetteclub.org
SUMMARY:CCND Breakfast - Rt40 Diner
DESCRIPTION:
URL:https://vetteclub.org/event/ccnd-breakfast-rt40-diner-50/
LOCATION:Route 40 Diner\, 1705 Pulaski Hwy\, Bear\, DE\, 19701\, United States
CATEGORIES:Social Events
END:VEVENT
BEGIN:VEVENT
DTSTART;TZID=America/New_York:20220818T090000
DTEND;TZID=America/New_York:20220818T103000
DTSTAMP:20260424T060500
CREATED:20220630T160741Z
LAST-MODIFIED:20220630T160741Z
UID:2713-1660813200-1660818600@vetteclub.org
SUMMARY:CCND Breakfast - Rt40 Diner
DESCRIPTION:
URL:https://vetteclub.org/event/ccnd-breakfast-rt40-diner-49/
LOCATION:Route 40 Diner\, 1705 Pulaski Hwy\, Bear\, DE\, 19701\, United States
CATEGORIES:Social Events
END:VEVENT
BEGIN:VEVENT
DTSTART;TZID=America/New_York:20220816T180000
DTEND;TZID=America/New_York:20220816T200000
DTSTAMP:20260424T060500
CREATED:20220804T161632Z
LAST-MODIFIED:20220804T161632Z
UID:2748-1660672800-1660680000@vetteclub.org
SUMMARY:CCND Dinner - Old South Smoke House
DESCRIPTION:We are going to Old South Smoke House on Tuesday August 16th for a 6 PM reservation. The restaurant is located at  1195 Jacob Tome Memorial Hwy\, Port Deposit\, MD 21904. The parking lot should be big enough for our Corvettes\, but there is no guarantee. There is a huge parking lot in the back.  \nAfter clicking on the link below\, you will be brought to a page where you can click on the RSVP NOW button. You will then be asked to input your name\, click yes\, you are attending and how many are attending.  When the information is completed\, you can click the new RSVP Now button and I will receive your response. \n\nhttps://www.signupgenius.com/go/8050D44AFA729A0FA7-ccnd3 \nHope to see you there! \n\nDue to NCCC Covid-19 requirements for insurance NOTICE:  Anyone attending any CCND and/or NCCC events are doing so at their own risk.  ALL events are voluntary. 
URL:https://vetteclub.org/event/ccnd-dinner-old-south-smoke-house/
LOCATION:Old South Smoke House\, 1195 Jacob Tome Memorial Hwy\, Port Deposit\, MD\, 21904\, United States
CATEGORIES:Social Events
END:VEVENT
BEGIN:VEVENT
DTSTART;TZID=America/New_York:20220809T190000
DTEND;TZID=America/New_York:20220809T200000
DTSTAMP:20260424T060500
CREATED:20220630T160256Z
LAST-MODIFIED:20220810T014820Z
UID:2704-1660071600-1660075200@vetteclub.org
SUMMARY:CCND Monthly Meeting @ Cafe Pomodoro
DESCRIPTION:
URL:https://vetteclub.org/event/ccnd-monthly-meeting-battery-park-delaware-city/
LOCATION:Cafe Pomodoro\, 5337-B Limestone Road\, Shops of Limestone Hills\, Wilmington\, DE\, 19808\, United States
CATEGORIES:Social Events
END:VEVENT
BEGIN:VEVENT
DTSTART;TZID=America/New_York:20220806T160000
DTEND;TZID=America/New_York:20220806T200000
DTSTAMP:20260424T060500
CREATED:20220111T211251Z
LAST-MODIFIED:20220111T211251Z
UID:2560-1659801600-1659816000@vetteclub.org
SUMMARY:CCND Cruise-in @ Fox Run Shopping Center
DESCRIPTION:
URL:https://vetteclub.org/event/ccnd-cruise-in-fox-run-shopping-center-12/
LOCATION:Fox Run Shopping Center\, Fox Hunt Dr\, Bear\, DE\, 19701\, United States
CATEGORIES:Social Events
END:VEVENT
BEGIN:VEVENT
DTSTART;TZID=America/New_York:20220804T090000
DTEND;TZID=America/New_York:20220804T103000
DTSTAMP:20260424T060500
CREATED:20220630T160635Z
LAST-MODIFIED:20220630T160635Z
UID:2711-1659603600-1659609000@vetteclub.org
SUMMARY:CCND Breakfast - Rt40 Diner
DESCRIPTION:
URL:https://vetteclub.org/event/ccnd-breakfast-rt40-diner-48/
LOCATION:Route 40 Diner\, 1705 Pulaski Hwy\, Bear\, DE\, 19701\, United States
CATEGORIES:Social Events
END:VEVENT
BEGIN:VEVENT
DTSTART;TZID=America/New_York:20220802T170000
DTEND;TZID=America/New_York:20220802T190000
DTSTAMP:20260424T060500
CREATED:20220707T002801Z
LAST-MODIFIED:20220707T003019Z
UID:2726-1659459600-1659466800@vetteclub.org
SUMMARY:CCND Pickleball - Deacons Walk Park
DESCRIPTION:Tuesday\, August  2nd: Pickle ball and Pizza at the Deacons Walk Neighborhood Park from 5 PM -7 Pm. The park is located at 9 Ware Road Newark\, DE 19711 (off Polly Drummond Rd) \nALL LEVELS WELCOME! \n1. Wear sneakers\, preferably tennis or pickleball shoes. \n2. Bring paddles if you have any ( Paddles are available if you don’t have one) \n3. Bring Money for Pizza and we will order at some point. \n4. Bring your own water/drink \n5. Have fun playing pickleball\, learning a new sport and/or eat dinner with CCND \n6. Let’s hope we have good weather! \nSign up is not mandatory for Pickleball\, but is helpful so we can have nets set up. \nAfter clicking on the link below\, you will be brought to a page where you can click on the RSVP NOW button. You will then be asked to input your name\, click yes\, you are attending and how many are attending.  When the information is completed\, you can click the new RSVP NOW button and I will receive your response. \nhttps://www.signupgenius.com/go/8050D44AFA729A0FA7-august
URL:https://vetteclub.org/event/ccnd-pickleball-deacons-walk-park-3/
LOCATION:Deacons Walk The Bluffs Park\, 1-99 Ware Rd.\, Neewark\, DE\, 19711\, United States
CATEGORIES:Social Events
END:VEVENT
BEGIN:VEVENT
DTSTART;TZID=America/New_York:20220721T090000
DTEND;TZID=America/New_York:20220721T103000
DTSTAMP:20260424T060500
CREATED:20220630T160550Z
LAST-MODIFIED:20220630T160550Z
UID:2709-1658394000-1658399400@vetteclub.org
SUMMARY:CCND Breakfast - Rt40 Diner
DESCRIPTION:
URL:https://vetteclub.org/event/ccnd-breakfast-rt40-diner-47/
LOCATION:Route 40 Diner\, 1705 Pulaski Hwy\, Bear\, DE\, 19701\, United States
CATEGORIES:Social Events
END:VEVENT
BEGIN:VEVENT
DTSTART;TZID=America/New_York:20220720T180000
DTEND;TZID=America/New_York:20220720T200000
DTSTAMP:20260424T060500
CREATED:20220702T003120Z
LAST-MODIFIED:20220702T003120Z
UID:2721-1658340000-1658347200@vetteclub.org
SUMMARY:CCND Dinner @ Goobers Diner
DESCRIPTION:
URL:https://vetteclub.org/event/ccnd-dinner-goobers-diner/
LOCATION:Goobers Diner\, 1203 N Lincoln St\, Wilmington\, DE\, 19806\, United States
CATEGORIES:Social Events
END:VEVENT
BEGIN:VEVENT
DTSTART;TZID=America/New_York:20220712T190000
DTEND;TZID=America/New_York:20220712T200000
DTSTAMP:20260424T060500
CREATED:20220630T155538Z
LAST-MODIFIED:20220630T155538Z
UID:2702-1657652400-1657656000@vetteclub.org
SUMMARY:CCND Monthly Meeting @ Cafe Pomodoro
DESCRIPTION:
URL:https://vetteclub.org/event/ccnd-monthly-meeting-cafe-pomodoro/
LOCATION:Cafe Pomodoro\, 5337-B Limestone Road\, Shops of Limestone Hills\, Wilmington\, DE\, 19808\, United States
CATEGORIES:Social Events
END:VEVENT
BEGIN:VEVENT
DTSTART;TZID=America/New_York:20220707T090000
DTEND;TZID=America/New_York:20220707T103000
DTSTAMP:20260424T060500
CREATED:20220630T160505Z
LAST-MODIFIED:20220630T160505Z
UID:2707-1657184400-1657189800@vetteclub.org
SUMMARY:CCND Breakfast - Rt40 Diner
DESCRIPTION:
URL:https://vetteclub.org/event/ccnd-breakfast-rt40-diner-46/
LOCATION:Route 40 Diner\, 1705 Pulaski Hwy\, Bear\, DE\, 19701\, United States
CATEGORIES:Social Events
END:VEVENT
BEGIN:VEVENT
DTSTART;TZID=America/New_York:20220705T170000
DTEND;TZID=America/New_York:20220705T190000
DTSTAMP:20260424T060500
CREATED:20220602T165503Z
LAST-MODIFIED:20220602T165503Z
UID:2688-1657040400-1657047600@vetteclub.org
SUMMARY:CCND - Pickleball - Deacons Walk Park
DESCRIPTION:Our next Pickleball and Pizza event will be July 5th at the Deacons Walk Neighborhood Park from 5PM -7Pm. The park is located at 9 Ware Road Newark\, DE 19711 (off Polly Drummond Rd)   \nAll levels welcome!  \n\n1. Wear sneakers\, preferably tennis or pickleball shoes.\n\n2. Bring paddles if you have any (Paddles available if you don’t have one)\n3. Bring Money for Pizza and we will order at some point.\n4. Bring your own water/drink\n5. Have fun playing pickleball\, learning a new sport and/or eat dinner with CCND\n6. Let’s hope we have good weather!\nPlease sign up through the following link if you plan to attend. This is not mandatory\,but it gives us an idea on how many nets to set up.\nhttps://www.signupgenius.com/go/8050D44AFA729A0FA7-july
URL:https://vetteclub.org/event/ccnd-pickleball-deacons-walk-park-2/
LOCATION:Deacons Walk The Bluffs Park\, 1-99 Ware Rd.\, Neewark\, DE\, 19711\, United States
CATEGORIES:Social Events
END:VEVENT
BEGIN:VEVENT
DTSTART;TZID=America/New_York:20220702T160000
DTEND;TZID=America/New_York:20220702T190000
DTSTAMP:20260424T060500
CREATED:20220111T211204Z
LAST-MODIFIED:20220702T194251Z
UID:2558-1656777600-1656788400@vetteclub.org
SUMMARY:CCND Cruise-in @ Fox Run Shopping Center
DESCRIPTION:
URL:https://vetteclub.org/event/ccnd-cruise-in-fox-run-shopping-center-11/
LOCATION:Fox Run Shopping Center\, Fox Hunt Dr\, Bear\, DE\, 19701\, United States
CATEGORIES:Social Events
END:VEVENT
BEGIN:VEVENT
DTSTART;TZID=America/New_York:20220630T090000
DTEND;TZID=America/New_York:20220630T103000
DTSTAMP:20260424T060500
CREATED:20220305T030043Z
LAST-MODIFIED:20220305T030043Z
UID:2643-1656579600-1656585000@vetteclub.org
SUMMARY:CCND Breakfast - Rt40 Diner
DESCRIPTION:
URL:https://vetteclub.org/event/ccnd-breakfast-rt40-diner-45/
LOCATION:Route 40 Diner\, 1705 Pulaski Hwy\, Bear\, DE\, 19701\, United States
CATEGORIES:Social Events
END:VEVENT
BEGIN:VEVENT
DTSTART;TZID=America/New_York:20220629T110000
DTEND;TZID=America/New_York:20220629T160000
DTSTAMP:20260424T060500
CREATED:20220602T170200Z
LAST-MODIFIED:20220602T170200Z
UID:2690-1656500400-1656518400@vetteclub.org
SUMMARY:CCND - Lunch & Ice Cream
DESCRIPTION:We are going to Molly’s Restaurant and Real Mccoy Ice Cream on  Wednesday\, June 29th \nWe will meet in the back of the parking lot of Baker’s Restaurant (1075 Augustine Herman Hwy\, Elkton\, MD 21921) @ 11:15. We will leave promptly at 11:30 and cruise to Molly’s for lunch. We will go to Real Mccoy Ice Cream on the way home.  \nMolly’s Restaurant: 12503 Augustine Herman Hwy\, Kennedyville\, MD 21645 \nReal Mccoy Ice Cream: 2544 Augustine Herman Hwy\, Chesapeake City\, MD 21915 \nAfter clicking on the link below\, you will be brought to a page where you can click on the RSVP Now button. You will then be  asked to input your name\, click yes\, you are attending  and how many are attending.  When information is completed\, you can click the new RSVP Now button and I will receive your response. \n\nhttps://www.signupgenius.com/go/8050D44AFA729A0FA7-mollys
URL:https://vetteclub.org/event/ccnd-lunch-ice-cream/
LOCATION:Molly’s Restaurant\, 12503 Augustine Herman Hwy\, Kennedyville\, MD\, 21645\, United States
CATEGORIES:Social Events
END:VEVENT
BEGIN:VEVENT
DTSTART;TZID=America/New_York:20220617T190000
DTEND;TZID=America/New_York:20220617T200000
DTSTAMP:20260424T060500
CREATED:20220615T005237Z
LAST-MODIFIED:20220615T005237Z
UID:2699-1655492400-1655496000@vetteclub.org
SUMMARY:CCND Ice Cream @ Dairy
DESCRIPTION:
URL:https://vetteclub.org/event/ccnd-ice-cream-dairy/
LOCATION:UDairy Creamery\, 535 S College Ave.\, Newark\, DE\, 19716\, United States
CATEGORIES:Social Events
END:VEVENT
BEGIN:VEVENT
DTSTART;TZID=America/New_York:20220616T090000
DTEND;TZID=America/New_York:20220616T103000
DTSTAMP:20260424T060500
CREATED:20220305T025953Z
LAST-MODIFIED:20220305T025953Z
UID:2641-1655370000-1655375400@vetteclub.org
SUMMARY:CCND Breakfast - Rt40 Diner
DESCRIPTION:
URL:https://vetteclub.org/event/ccnd-breakfast-rt40-diner-44/
LOCATION:Route 40 Diner\, 1705 Pulaski Hwy\, Bear\, DE\, 19701\, United States
CATEGORIES:Social Events
END:VEVENT
BEGIN:VEVENT
DTSTART;TZID=America/New_York:20220609T183000
DTEND;TZID=America/New_York:20220609T200000
DTSTAMP:20260424T060500
CREATED:20220602T165225Z
LAST-MODIFIED:20220602T165225Z
UID:2685-1654799400-1654804800@vetteclub.org
SUMMARY:CCND - Ladies Only Game Night
DESCRIPTION:
URL:https://vetteclub.org/event/ccnd-ladies-only-game-night/
LOCATION:Learning Express Academy\, 300 Darling Street\, Newark\, DE\, 19702\, United States
CATEGORIES:Social Events
END:VEVENT
END:VCALENDAR