BEGIN:VCALENDAR
VERSION:2.0
PRODID:-//Corvette Club of Northern Delaware - ECPv6.15.20//NONSGML v1.0//EN
CALSCALE:GREGORIAN
METHOD:PUBLISH
X-ORIGINAL-URL:https://vetteclub.org
X-WR-CALDESC:Events for Corvette Club of Northern Delaware
REFRESH-INTERVAL;VALUE=DURATION:PT1H
X-Robots-Tag:noindex
X-PUBLISHED-TTL:PT1H
BEGIN:VTIMEZONE
TZID:America/New_York
BEGIN:DAYLIGHT
TZOFFSETFROM:-0500
TZOFFSETTO:-0400
TZNAME:EDT
DTSTART:20220313T070000
END:DAYLIGHT
BEGIN:STANDARD
TZOFFSETFROM:-0400
TZOFFSETTO:-0500
TZNAME:EST
DTSTART:20221106T060000
END:STANDARD
BEGIN:DAYLIGHT
TZOFFSETFROM:-0500
TZOFFSETTO:-0400
TZNAME:EDT
DTSTART:20230312T070000
END:DAYLIGHT
BEGIN:STANDARD
TZOFFSETFROM:-0400
TZOFFSETTO:-0500
TZNAME:EST
DTSTART:20231105T060000
END:STANDARD
BEGIN:DAYLIGHT
TZOFFSETFROM:-0500
TZOFFSETTO:-0400
TZNAME:EDT
DTSTART:20240310T070000
END:DAYLIGHT
BEGIN:STANDARD
TZOFFSETFROM:-0400
TZOFFSETTO:-0500
TZNAME:EST
DTSTART:20241103T060000
END:STANDARD
END:VTIMEZONE
BEGIN:VEVENT
DTSTART;TZID=America/New_York:20230720T180000
DTEND;TZID=America/New_York:20230720T200000
DTSTAMP:20260424T013638
CREATED:20230623T202648Z
LAST-MODIFIED:20230623T202648Z
UID:3070-1689876000-1689883200@vetteclub.org
SUMMARY:CCND Dinner - Northbrook MarketPlace
DESCRIPTION:I am very excited about our Thursday\,  July 20th  dinner at Northbrook MarketPlace located at 1805 Unionville-Wawaset Rd West Chester\, Pa 19382  ( corner of Rt. 842 and Northbrook Road ) . We will meet at 6PM\, but since it’s a buffet you can come later if you like. \n \nWe tried the restaurant  last night and everything was delicious.  Even though they call the buffet: Pasta night\, it also includes many different salads\, meats\, spaghetti\, pizza & much more.   Lemonade\, ice tea\, water\,coffee and hot tea are also included.  Don’t forget to leave room for the included awesome desserts! I have listed the website\, but understand that the food offerings may differ on the night we go.  The buffet is $24.95 plus tax and gratuity.\n\nThis Restaurant is a BYOB and they even cork your wine for free! We can drive our Corvettes or whatever vehicle you choose.\n\n \nhttps://northbrookmarketplace.com/pasta-night/\n\n \nIf you plan on attending:\n \nAfter clicking on the link below\, you will be brought to a page where you can click on the RSVP NOW button. You will then be asked to input your name\, click yes\, you are attending and how many are attending. When the information is completed\, you can click the new RSVP Now button and I will receive your response.\n\n \nhttps://www.signupgenius.com/go/8050D44AFA729A0FA7-northbrook\n\nHope you can attend! Should be a fun evening!
URL:https://vetteclub.org/event/ccnd-dinner-northbrook-marketplace/
LOCATION:Northbrook MarketPlace\, 1805 Unionville-Wawaset Rd\, West Chester\, PA\, 19382\, United States
CATEGORIES:Social Events
END:VEVENT
BEGIN:VEVENT
DTSTART;TZID=America/New_York:20230718T090000
DTEND;TZID=America/New_York:20230718T100000
DTSTAMP:20260424T013638
CREATED:20230623T203511Z
LAST-MODIFIED:20230623T203511Z
UID:3080-1689670800-1689674400@vetteclub.org
SUMMARY:CCND Breakfast - Rt40 Diner
DESCRIPTION:
URL:https://vetteclub.org/event/ccnd-breakfast-rt40-diner-75/
LOCATION:Route 40 Diner\, 1705 Pulaski Hwy\, Bear\, DE\, 19701\, United States
CATEGORIES:Social Events
END:VEVENT
BEGIN:VEVENT
DTSTART;TZID=America/New_York:20230711T100000
DTEND;TZID=America/New_York:20230711T120000
DTSTAMP:20260424T013638
CREATED:20230623T203052Z
LAST-MODIFIED:20230623T203052Z
UID:3073-1689069600-1689076800@vetteclub.org
SUMMARY:CCND Cruise-in - The Summit
DESCRIPTION:I have been working with The Summit for a date to have their cruise. We have chosen Tuesday\, July 11 at 10:00am. I’ll be meeting with Roxanne Wilson\, Assisted Living and Memory Care Director\, on June 29 to go over some of the details. We can also now contact ABC TV and get them on our schedule to do the piece on our 50th Anniversary. It’s going to be a great cruise for CCND to continue our strong community outreach.\n\nIn the meantime\, I would like to get an estimate of how many of us/cars will attend. I’m assuming we will be there for an hour or a bit longer. I told Roxanne there may be 10-15 cars\, maybe more.\n\nThere will be hot dogs\, hamburgers and deserts available for us all as part of The Summit’s charity work. Don Nayden volunteered his and Paul’s guitar and singing prowess for some entertainment of the residents at The Summit.\n\nOnce I complete the meeting on June 29\, I’ll get back to you all with more details.\n\nDon’t forget to get back to me asap so I can have an estimate of attendance.\n\nRegards\,
URL:https://vetteclub.org/event/ccnd-cruise-in-the-summit/
LOCATION:The Summit\, 5850 Limestone Rd\, Hockessin\, DE\, 19707\, United States
CATEGORIES:Social Events
END:VEVENT
BEGIN:VEVENT
DTSTART;TZID=America/New_York:20230704T090000
DTEND;TZID=America/New_York:20230704T100000
DTSTAMP:20260424T013638
CREATED:20230623T203434Z
LAST-MODIFIED:20230623T203434Z
UID:3078-1688461200-1688464800@vetteclub.org
SUMMARY:CCND Breakfast - Rt40 Diner
DESCRIPTION:
URL:https://vetteclub.org/event/ccnd-breakfast-rt40-diner-74/
LOCATION:Route 40 Diner\, 1705 Pulaski Hwy\, Bear\, DE\, 19701\, United States
CATEGORIES:Social Events
END:VEVENT
BEGIN:VEVENT
DTSTART;TZID=America/New_York:20230701T160000
DTEND;TZID=America/New_York:20230701T190000
DTSTAMP:20260424T013638
CREATED:20230222T212345Z
LAST-MODIFIED:20230222T212345Z
UID:2987-1688227200-1688238000@vetteclub.org
SUMMARY:CCND Cruise-In - Fox Run Shopping Center
DESCRIPTION:Rain date July 8th
URL:https://vetteclub.org/event/ccnd-cruise-in-fox-run-shopping-center-18/
LOCATION:Fox Run Shopping Center\, Fox Hunt Dr\, Bear\, DE\, 19701\, United States
CATEGORIES:Social Events
END:VEVENT
BEGIN:VEVENT
DTSTART;TZID=America/New_York:20230629T090000
DTEND;TZID=America/New_York:20230629T103000
DTSTAMP:20260424T013638
CREATED:20230222T213222Z
LAST-MODIFIED:20230623T203342Z
UID:3007-1688029200-1688034600@vetteclub.org
SUMMARY:CCND Breakfast - Rt40 Diner
DESCRIPTION:
URL:https://vetteclub.org/event/ccnd-breakfast-rt40-diner-73/
LOCATION:Route 40 Diner\, 1705 Pulaski Hwy\, Bear\, DE\, 19701\, United States
CATEGORIES:Social Events
END:VEVENT
BEGIN:VEVENT
DTSTART;TZID=America/New_York:20230615T090000
DTEND;TZID=America/New_York:20230615T103000
DTSTAMP:20260424T013638
CREATED:20230222T213150Z
LAST-MODIFIED:20230222T213150Z
UID:3005-1686819600-1686825000@vetteclub.org
SUMMARY:CCND Breakfast - Rt40 Diner
DESCRIPTION:
URL:https://vetteclub.org/event/ccnd-breakfast-rt40-diner-72/
LOCATION:Route 40 Diner\, 1705 Pulaski Hwy\, Bear\, DE\, 19701\, United States
CATEGORIES:Social Events
END:VEVENT
BEGIN:VEVENT
DTSTART;TZID=America/New_York:20230608T180000
DTEND;TZID=America/New_York:20230608T200000
DTSTAMP:20260424T013638
CREATED:20230602T195304Z
LAST-MODIFIED:20230602T195304Z
UID:3064-1686247200-1686254400@vetteclub.org
SUMMARY:CCND Dinner - Cacciatori  Pizza & Pasta
DESCRIPTION:I have planned a dinner at Cacciatori  Pizza & Pasta on Thursday\, June 8th @ 6 PM They are located at 108 Louviers Dr\, Newark\, DE 19711 which is in the Louviers Shopping Center off Paper Mill RD. \nThe first 28 people will be able to sit outside and the overflow will be inside. \nIf you plan on attending: \nAfter clicking on the link below\, you will be brought to a page where you can click on the RSVP NOW button. You will then be asked to input your name\, click yes\, you are attending and how many are attending. When the information is completed\, you can click the new RSVP Now button and I will receive your response. \nhttps://www.signupgenius.com/go/8050D44AFA729A0FA7-ccnd15 \nI hope you can join us.
URL:https://vetteclub.org/event/ccnd-dinner-cacciatori-pizza-pasta/
LOCATION:Cacciatori  Pizza & Pasta\, 108 Louviers Dr.\, Newark\, DE\, 19711\, United States
CATEGORIES:Social Events
END:VEVENT
BEGIN:VEVENT
DTSTART;TZID=America/New_York:20230603T160000
DTEND;TZID=America/New_York:20230603T190000
DTSTAMP:20260424T013638
CREATED:20230222T211907Z
LAST-MODIFIED:20230222T212219Z
UID:2982-1685808000-1685818800@vetteclub.org
SUMMARY:CCND Cruise-In - Fox Run Shopping Center
DESCRIPTION:Rain Date June 10th
URL:https://vetteclub.org/event/ccnd-cruise-in-fox-run-shopping-center-16/
LOCATION:Fox Run Shopping Center\, Fox Hunt Dr\, Bear\, DE\, 19701\, United States
CATEGORIES:Social Events
END:VEVENT
BEGIN:VEVENT
DTSTART;TZID=America/New_York:20230601T090000
DTEND;TZID=America/New_York:20230601T103000
DTSTAMP:20260424T013638
CREATED:20230222T213117Z
LAST-MODIFIED:20230222T213117Z
UID:3003-1685610000-1685615400@vetteclub.org
SUMMARY:CCND Breakfast - Rt40 Diner
DESCRIPTION:
URL:https://vetteclub.org/event/ccnd-breakfast-rt40-diner-71/
LOCATION:Route 40 Diner\, 1705 Pulaski Hwy\, Bear\, DE\, 19701\, United States
CATEGORIES:Social Events
END:VEVENT
BEGIN:VEVENT
DTSTART;TZID=America/New_York:20230518T090000
DTEND;TZID=America/New_York:20230518T103000
DTSTAMP:20260424T013638
CREATED:20230222T213029Z
LAST-MODIFIED:20230222T213029Z
UID:3001-1684400400-1684405800@vetteclub.org
SUMMARY:CCND Breakfast - Rt40 Diner
DESCRIPTION:
URL:https://vetteclub.org/event/ccnd-breakfast-rt40-diner-70/
LOCATION:Route 40 Diner\, 1705 Pulaski Hwy\, Bear\, DE\, 19701\, United States
CATEGORIES:Social Events
END:VEVENT
BEGIN:VEVENT
DTSTART;TZID=America/New_York:20230517T163000
DTEND;TZID=America/New_York:20230517T190000
DTSTAMP:20260424T013638
CREATED:20230512T195126Z
LAST-MODIFIED:20230512T195126Z
UID:3061-1684341000-1684350000@vetteclub.org
SUMMARY:CCND Pickleball - Deacons Walk Park
DESCRIPTION:The date has changed and we are now going to play pickleball on Wednesday\, May 17th From 4:30-7 pm. We will meet at the Deacons Walk Neighborhood Park. The park is located at 9 Ware Road Newark\, DE 19711 (off Polly Drummond Rd)  \n \nWe usually play for an hour to a 1 1/2 hours. Feel free to come anytime. The group will decide if we want to get pizza or go out someplace. \n\n ALL LEVELS WELCOME! \n1. Wear sneakers\, preferably tennis or pickleball shoes.  \n2. Bring paddles if you have any ( Paddles are available if you don’t have one) \n4. Bring your own water/drink\n \n5. Have fun playing pickleball\, learning a new sport and/or eat dinner with CCND \n6. Let’s hope we have good weather! \n Sign up is not mandatory for Pickleball\, but is helpful so we can have nets set up. \n If you plan on attending: \nAfter clicking on the link below\, you will be brought to a page where you can click on the RSVP\nNOW button. You will then be asked to input your name\, click yes\, you are attending and how\nmany are attending. When the information is completed\, you can click the new RSVP Now\nbutton and I will receive your response. \n\nhttps://www.signupgenius.com/go/8050D44AFA729A0FA7-pickleball1
URL:https://vetteclub.org/event/ccnd-pickleball-deacons-walk-park-5/
LOCATION:Deacons Walk The Bluffs Park\, 1-99 Ware Rd.\, Neewark\, DE\, 19711\, United States
CATEGORIES:Social Events
END:VEVENT
BEGIN:VEVENT
DTSTART;TZID=America/New_York:20230516T180000
DTEND;TZID=America/New_York:20230516T200000
DTSTAMP:20260424T013638
CREATED:20230429T130016Z
LAST-MODIFIED:20230429T130016Z
UID:3035-1684260000-1684267200@vetteclub.org
SUMMARY:CCND Dinner - Legend Restaurant & Bakery
DESCRIPTION:We are going to the Legend Restaurant & Bakery on Tuesday\, May 16th @ 6PM. The address is 201 N Dupont Hwy\, New Castle\, DE 19720 ( formerly Arners)\n \n\nIf you plan on attending: \nAfter clicking on the link below\, you will be brought to a page where you can click on the RSVP\nNOW button. You will then be asked to input your name\, click yes\, you are attending and how\nmany are attending. When the information is completed\, you can click the new RSVP Now\nbutton and I will receive your response. \nhttps://www.signupgenius.com/go/8050D44AFA729A0FA7-ccnd13\n \n\nDue to NCCC Covid-19 requirements for insurance NOTICE:  Anyone attending any CCND and/or NCCC events is doing so at their own risk.  ALL events are voluntary.
URL:https://vetteclub.org/event/ccnd-dinner-legend-restaurant-bakery/
LOCATION:Legend Restaurant & Bakery\, 201 N Dupont Hwy\, Neew Castle\, DE\, 19720\, United States
CATEGORIES:Social Events
END:VEVENT
BEGIN:VEVENT
DTSTART;TZID=America/New_York:20230509T190000
DTEND;TZID=America/New_York:20230509T203000
DTSTAMP:20260424T013638
CREATED:20230503T191044Z
LAST-MODIFIED:20230503T191139Z
UID:3041-1683658800-1683664200@vetteclub.org
SUMMARY:CCND Meeting - Fiesta Maya Mexican Grill
DESCRIPTION:We are having a signup for our May meeting at Fiesta Maya Mexican Grill due to having a special speaker. We are lucky to have Jeffrey “Zipity” Duda to speak and answer questions about the Atlantic Caravan going to Bowling Green in August 2024 for the 30th Corvette Museum Anniversary. \n \nI hope you will come and hear Jeffrey’s enthusiastic presentation for this exciting  and fun event.\n \nThe meeting starts at 7PM and we eat dinner beforehand. Most members arrive between 5:30 and 6 for dinner.\n \n \n\nIf you plan on attending: \nAfter clicking on the link below\, you will be brought to a page where you can click on the RSVP\nNOW button. You will then be asked to input your name\, click yes\, you are attending and how\nmany are attending. When the information is completed\, you can click the new RSVP Now\nbutton and I will receive your response. \n\n\n\nhttps://www.signupgenius.com/go/8050D44AFA729A0FA7-ccnd14\n \nDue to NCCC Covid-19 requirements for insurance NOTICE:  Anyone attending any CCND and/or NCCC events is doing so at their own risk.  ALL events are voluntary.
URL:https://vetteclub.org/event/ccnd-meeting-fiesta-maya-mexican-grill/
LOCATION:Fiesta Maya Mexican Grill\, 200 Pencader Plaza\, Newark\, DE\, 19713\, United States
CATEGORIES:Social Events
END:VEVENT
BEGIN:VEVENT
DTSTART;TZID=America/New_York:20230506T160000
DTEND;TZID=America/New_York:20230506T190000
DTSTAMP:20260424T013638
CREATED:20230222T212043Z
LAST-MODIFIED:20230222T212043Z
UID:2984-1683388800-1683399600@vetteclub.org
SUMMARY:CCND Cruise-In - Fox Run Shopping Center
DESCRIPTION:Rain date May 13th
URL:https://vetteclub.org/event/ccnd-cruise-in-fox-run-shopping-center-17/
LOCATION:Fox Run Shopping Center\, Fox Hunt Dr\, Bear\, DE\, 19701\, United States
CATEGORIES:Social Events
END:VEVENT
BEGIN:VEVENT
DTSTART;TZID=America/New_York:20230504T090000
DTEND;TZID=America/New_York:20230504T103000
DTSTAMP:20260424T013638
CREATED:20230222T212955Z
LAST-MODIFIED:20230222T212955Z
UID:2999-1683190800-1683196200@vetteclub.org
SUMMARY:CCND Breakfast - Rt40 Diner
DESCRIPTION:
URL:https://vetteclub.org/event/ccnd-breakfast-rt40-diner-69/
LOCATION:Route 40 Diner\, 1705 Pulaski Hwy\, Bear\, DE\, 19701\, United States
CATEGORIES:Social Events
END:VEVENT
BEGIN:VEVENT
DTSTART;TZID=America/New_York:20230501T080000
DTEND;TZID=America/New_York:20230504T170000
DTSTAMP:20260424T013638
CREATED:20220905T134714Z
LAST-MODIFIED:20220905T134714Z
UID:2795-1682928000-1683219600@vetteclub.org
SUMMARY:CCND 50th Anniversary Road Trip - Watkins Glen\, NY
DESCRIPTION:CCND 50th Anniversary Event \nSpring 2023 trip to Watkins Glen\, New York \n• Proposed dates: first or second week of May 2023\n• Four days\, three nights\, Monday through Thursday\n• The drive to Watkins Glen is 260 miles and 5 hours without stops.\n• We will be staying at the beautiful\, award-winning Harbor Hotel.  \n   The hotel has 104 rooms and is offering us group discount room rates\,  \n    reserved free parking\, and car washing area \n• One or two winery tours and a visit to Watkins Glen State Park.\n• One-hour scenic cruise or longer dinner cruise on Lake Seneca.\n• Drive the Glen Experience on the internationally famous road course track.
URL:https://vetteclub.org/event/ccnd-50th-anniversary-road-trip-watkins-glen-ny/
LOCATION:Watkins Glen Harbor Hotel\, 16 North Franklin St\, NY\, 14891
CATEGORIES:Social Events
END:VEVENT
BEGIN:VEVENT
DTSTART;TZID=America/New_York:20230425T183000
DTEND;TZID=America/New_York:20230425T203000
DTSTAMP:20260424T013638
CREATED:20230407T214227Z
LAST-MODIFIED:20230407T214227Z
UID:3031-1682447400-1682454600@vetteclub.org
SUMMARY:CCND Dinner - Schaefer's Canal House
DESCRIPTION:We are going to Schaefer’s Canal House on Tuesday\, April 25th  for a 6:30pmreservation.  Please note the time.The restaurant is located  at 208 Bank St\, Chesapeake City\, MD 21915. This is always a club favorite! \nWe will meet at the restaurant and there should be  plenty of parking for our vettes or any car you would like to drive. There is a  newer lot with 200 spaces parallel to the older lot. \nIf you plan on attending: \nAfter clicking on the link below\, you will be brought to a page where you can click on the RSVP\nNOW button. You will then be asked to input your name\, click yes\, you are attending and how\nmany are attending. When the information is completed\, you can click the new RSVP Now\nbutton and I will receive your response. \nhttps://www.signupgenius.com/go/8050D44AFA729A0FA7-ccnd12
URL:https://vetteclub.org/event/ccnd-dinner-schaefers-canal-house-2/
LOCATION:Schaefer’s Canal House\, 208 Bank St.\, Chesapeake City\, MD\, 21915\, United States
CATEGORIES:Social Events
END:VEVENT
BEGIN:VEVENT
DTSTART;TZID=America/New_York:20230420T090000
DTEND;TZID=America/New_York:20230420T103000
DTSTAMP:20260424T013638
CREATED:20230222T212842Z
LAST-MODIFIED:20230222T212842Z
UID:2997-1681981200-1681986600@vetteclub.org
SUMMARY:CCND Breakfast - Rt40 Diner
DESCRIPTION:
URL:https://vetteclub.org/event/ccnd-breakfast-rt40-diner-68/
LOCATION:Route 40 Diner\, 1705 Pulaski Hwy\, Bear\, DE\, 19701\, United States
CATEGORIES:Social Events
END:VEVENT
BEGIN:VEVENT
DTSTART;TZID=America/New_York:20230406T090000
DTEND;TZID=America/New_York:20230406T103000
DTSTAMP:20260424T013638
CREATED:20230222T212806Z
LAST-MODIFIED:20230222T212913Z
UID:2995-1680771600-1680777000@vetteclub.org
SUMMARY:CCND Breakfast - Rt40 Diner
DESCRIPTION:
URL:https://vetteclub.org/event/ccnd-breakfast-rt40-diner-67/
LOCATION:Route 40 Diner\, 1705 Pulaski Hwy\, Bear\, DE\, 19701\, United States
CATEGORIES:Social Events
END:VEVENT
BEGIN:VEVENT
DTSTART;TZID=America/New_York:20230401T150000
DTEND;TZID=America/New_York:20230401T190000
DTSTAMP:20260424T013638
CREATED:20230222T211750Z
LAST-MODIFIED:20230222T211920Z
UID:2980-1680361200-1680375600@vetteclub.org
SUMMARY:CCND Cruise-In - Fox Run Shopping Center
DESCRIPTION:Rain Date April 8th
URL:https://vetteclub.org/event/ccnd-cruise-in-fox-run-shopping-center-15/
LOCATION:Fox Run Shopping Center\, Fox Hunt Dr\, Bear\, DE\, 19701\, United States
CATEGORIES:Social Events
END:VEVENT
BEGIN:VEVENT
DTSTART;TZID=America/New_York:20230330T080000
DTEND;TZID=America/New_York:20230330T103000
DTSTAMP:20260424T013638
CREATED:20221228T234848Z
LAST-MODIFIED:20221228T234848Z
UID:2936-1680163200-1680172200@vetteclub.org
SUMMARY:CCND Breakfast - Rt40 Diner
DESCRIPTION:
URL:https://vetteclub.org/event/ccnd-breakfast-rt40-diner-66/
LOCATION:Route 40 Diner\, 1705 Pulaski Hwy\, Bear\, DE\, 19701\, United States
CATEGORIES:Social Events
END:VEVENT
BEGIN:VEVENT
DTSTART;TZID=America/New_York:20230316T080000
DTEND;TZID=America/New_York:20230316T170000
DTSTAMP:20260424T013638
CREATED:20221228T234803Z
LAST-MODIFIED:20221228T234803Z
UID:2934-1678953600-1678986000@vetteclub.org
SUMMARY:CCND Breakfast - Rt40 Diner
DESCRIPTION:
URL:https://vetteclub.org/event/ccnd-breakfast-rt40-diner-65/
LOCATION:Route 40 Diner\, 1705 Pulaski Hwy\, Bear\, DE\, 19701\, United States
CATEGORIES:Social Events
END:VEVENT
BEGIN:VEVENT
DTSTART;TZID=America/New_York:20230309T180000
DTEND;TZID=America/New_York:20230309T200000
DTSTAMP:20260424T013638
CREATED:20230222T211414Z
LAST-MODIFIED:20230222T211542Z
UID:2978-1678384800-1678392000@vetteclub.org
SUMMARY:CCND Dinner - Chuck Lager America's Tavern
DESCRIPTION:
URL:https://vetteclub.org/event/ccnd-dinner-chuck-lager-americas-tavern-2/
LOCATION:Chuck Lager America’s Tavern\, 4500 New Linden Hill Rd\, Wilmington\, DE\, 19808\, United States
CATEGORIES:Social Events
END:VEVENT
BEGIN:VEVENT
DTSTART;TZID=America/New_York:20230302T080000
DTEND;TZID=America/New_York:20230302T170000
DTSTAMP:20260424T013638
CREATED:20221228T234737Z
LAST-MODIFIED:20221228T234737Z
UID:2932-1677744000-1677776400@vetteclub.org
SUMMARY:CCND Breakfast - Rt40 Diner
DESCRIPTION:
URL:https://vetteclub.org/event/ccnd-breakfast-rt40-diner-64/
LOCATION:Route 40 Diner\, 1705 Pulaski Hwy\, Bear\, DE\, 19701\, United States
CATEGORIES:Social Events
END:VEVENT
BEGIN:VEVENT
DTSTART;TZID=America/New_York:20230216T180000
DTEND;TZID=America/New_York:20230216T200000
DTSTAMP:20260424T013638
CREATED:20230214T223656Z
LAST-MODIFIED:20230214T223656Z
UID:2966-1676570400-1676577600@vetteclub.org
SUMMARY:CCND Dinner - Trattoria di Napoli
DESCRIPTION:Hello everyone!\n\nWe are going to Trattoria di Napoli on Thursday\,  February 16th for a 6 PM reservation. The restaurant is located  at 1222 Pulaski Hwy Bear\, DE 19701.\n\nIf you plan on attending:\nAfter clicking on the link below\, you will be brought to a page where you can click on the RSVP\nNOW button. You will then be asked to input your name\, click yes\, you are attending and how\nmany are attending. When the information is completed\, you can click the new RSVP Now\nbutton and I will receive your response.\n\n\nhttps://www.signupgenius.com/go/8050D44AFA729A0FA7-february
URL:https://vetteclub.org/event/ccnd-dinner-trattoria-di-napoli/
LOCATION:Trattoria di Napoli\, 1222 Pulaski Hwy\, Bear\, DE\, 19701\, United States
CATEGORIES:Social Events
END:VEVENT
BEGIN:VEVENT
DTSTART;TZID=America/New_York:20230216T080000
DTEND;TZID=America/New_York:20230216T103000
DTSTAMP:20260424T013638
CREATED:20221228T234703Z
LAST-MODIFIED:20221228T234703Z
UID:2930-1676534400-1676543400@vetteclub.org
SUMMARY:CCND Breakfast - Rt40 Diner
DESCRIPTION:
URL:https://vetteclub.org/event/ccnd-breakfast-rt40-diner-63/
LOCATION:Route 40 Diner\, 1705 Pulaski Hwy\, Bear\, DE\, 19701\, United States
CATEGORIES:Social Events
END:VEVENT
BEGIN:VEVENT
DTSTART;TZID=America/New_York:20230202T080000
DTEND;TZID=America/New_York:20230202T170000
DTSTAMP:20260424T013638
CREATED:20221228T234627Z
LAST-MODIFIED:20221228T234627Z
UID:2928-1675324800-1675357200@vetteclub.org
SUMMARY:CCND Breakfast - Rt40 Diner
DESCRIPTION:
URL:https://vetteclub.org/event/ccnd-breakfast-rt40-diner-62/
LOCATION:Route 40 Diner\, 1705 Pulaski Hwy\, Bear\, DE\, 19701\, United States
CATEGORIES:Social Events
END:VEVENT
BEGIN:VEVENT
DTSTART;TZID=America/New_York:20230119T090000
DTEND;TZID=America/New_York:20230119T103000
DTSTAMP:20260424T013638
CREATED:20221228T234556Z
LAST-MODIFIED:20221228T234556Z
UID:2926-1674118800-1674124200@vetteclub.org
SUMMARY:CCND Breakfast - Rt40 Diner
DESCRIPTION:
URL:https://vetteclub.org/event/ccnd-breakfast-rt40-diner-61/
LOCATION:Route 40 Diner\, 1705 Pulaski Hwy\, Bear\, DE\, 19701\, United States
CATEGORIES:Social Events
END:VEVENT
BEGIN:VEVENT
DTSTART;TZID=America/New_York:20230114T183000
DTEND;TZID=America/New_York:20230114T223000
DTSTAMP:20260424T013638
CREATED:20220906T004456Z
LAST-MODIFIED:20220906T004456Z
UID:2819-1673721000-1673735400@vetteclub.org
SUMMARY:CCND Annual Banquet - Deerfield Country Club
DESCRIPTION:I have some great news! We are having our Annual banquet at Deerfield Country Club on January 14th\, 6:30-10:30 PM. The cost is $75 per person for members and significant others. ( FYI\, the club will be contributing $10)  Non Members are $85. We always have fun and expect this year to be no exception. \n \nDeerfield has a holiday package that includes :\nSeasonal Decor and Music\nWarm Apple Cider\,teas/Ice teas and Coffee\nHors D’oeuvres Display\nHors D’oeuvres Buttered\n\nDinner Buffet: 2 Entrees\, vegetable\, starch\, salad/soup\, fresh bread and dessert station( Menu TBD)\n\nAs in the past\, your payment is your reservation. Our deadline will be November 8th which is our meeting night. I would really appreciate payment ASAP so that we ensure we are hitting our minimum as early as possible.\n\n \nYou may pay cash or by check payable to CCND. Please bring your payment to any of our events. If I am not present\, you may give your payment to Mike Metcalf or Don Hadley\, our treasurer. Please mail a check to the following address if this is more convenient for you.\n                        Lynn Adelman\n                       15 Union Station RD\n                        Newark\, DE 19711
URL:https://vetteclub.org/event/ccnd-annual-banquet-deerfield-country-club/
LOCATION:Deerfield Country Club\, 517 Thompson Station Rd\,\, Newark\, DE\, 19711\, United States
CATEGORIES:Social Events
END:VEVENT
END:VCALENDAR