BEGIN:VCALENDAR
VERSION:2.0
PRODID:-//Corvette Club of Northern Delaware - ECPv6.15.20//NONSGML v1.0//EN
CALSCALE:GREGORIAN
METHOD:PUBLISH
X-WR-CALNAME:Corvette Club of Northern Delaware
X-ORIGINAL-URL:https://vetteclub.org
X-WR-CALDESC:Events for Corvette Club of Northern Delaware
REFRESH-INTERVAL;VALUE=DURATION:PT1H
X-Robots-Tag:noindex
X-PUBLISHED-TTL:PT1H
BEGIN:VTIMEZONE
TZID:America/New_York
BEGIN:DAYLIGHT
TZOFFSETFROM:-0500
TZOFFSETTO:-0400
TZNAME:EDT
DTSTART:20250309T070000
END:DAYLIGHT
BEGIN:STANDARD
TZOFFSETFROM:-0400
TZOFFSETTO:-0500
TZNAME:EST
DTSTART:20251102T060000
END:STANDARD
BEGIN:DAYLIGHT
TZOFFSETFROM:-0500
TZOFFSETTO:-0400
TZNAME:EDT
DTSTART:20260308T070000
END:DAYLIGHT
BEGIN:STANDARD
TZOFFSETFROM:-0400
TZOFFSETTO:-0500
TZNAME:EST
DTSTART:20261101T060000
END:STANDARD
BEGIN:DAYLIGHT
TZOFFSETFROM:-0500
TZOFFSETTO:-0400
TZNAME:EDT
DTSTART:20270314T070000
END:DAYLIGHT
BEGIN:STANDARD
TZOFFSETFROM:-0400
TZOFFSETTO:-0500
TZNAME:EST
DTSTART:20271107T060000
END:STANDARD
END:VTIMEZONE
BEGIN:VEVENT
DTSTART;TZID=America/New_York:20260305T090000
DTEND;TZID=America/New_York:20260305T100000
DTSTAMP:20260424T115629
CREATED:20251231T191417Z
LAST-MODIFIED:20251231T191417Z
UID:4007-1772701200-1772704800@vetteclub.org
SUMMARY:CCND Breakfast – Rt40 Diner
DESCRIPTION:
URL:https://vetteclub.org/event/ccnd-breakfast-rt40-diner-139/
LOCATION:Route 40 Diner\, 1705 Pulaski Hwy\, Bear\, DE\, 19701\, United States
CATEGORIES:Social Events
END:VEVENT
BEGIN:VEVENT
DTSTART;TZID=America/New_York:20260319T090000
DTEND;TZID=America/New_York:20260319T100000
DTSTAMP:20260424T115629
CREATED:20251231T191503Z
LAST-MODIFIED:20251231T191503Z
UID:4009-1773910800-1773914400@vetteclub.org
SUMMARY:CCND Breakfast – Rt40 Diner
DESCRIPTION:
URL:https://vetteclub.org/event/ccnd-breakfast-rt40-diner-140/
LOCATION:Route 40 Diner\, 1705 Pulaski Hwy\, Bear\, DE\, 19701\, United States
CATEGORIES:Social Events
END:VEVENT
BEGIN:VEVENT
DTSTART;TZID=America/New_York:20260325T180000
DTEND;TZID=America/New_York:20260325T200000
DTSTAMP:20260424T115629
CREATED:20260304T212628Z
LAST-MODIFIED:20260305T025031Z
UID:4049-1774461600-1774468800@vetteclub.org
SUMMARY:CCND Dinner - Ted's Montana Grill
DESCRIPTION:We are going to Ted’s Montana Grill  located at The Christiana Fashion Center: 3194 Fashion Center Blvd\, Newark\, DE 19702 on Wednesday\, March 25th  for a 6PM reservation.  \n\n                     If you plan on attending dinner:\n\n\n\n\n \nAfter clicking on the link below\, you will be brought to a page where you can click on the RSVP NOW button. You will then be asked to input your name\, click yes\, you are attending and how many are attending. When the information is completed\, you can click the new RSVP Now button and I will receive your response.\n\n\n\n\n\nhttps://www.signupgenius.com/go/8050D44AFA729A0FA7-62741265-ccnd
URL:https://vetteclub.org/event/ccnd-dinner-teds-montana-grill-3/
LOCATION:Ted’s Montana Grill\, 3194 Fashion Center Blvd\, Christiana Mall\, Newark\, DE\, 19702\, United States
CATEGORIES:Social Events
END:VEVENT
END:VCALENDAR