BEGIN:VCALENDAR
VERSION:2.0
PRODID:-//Corvette Club of Northern Delaware - ECPv6.15.20//NONSGML v1.0//EN
CALSCALE:GREGORIAN
METHOD:PUBLISH
X-ORIGINAL-URL:https://vetteclub.org
X-WR-CALDESC:Events for Corvette Club of Northern Delaware
REFRESH-INTERVAL;VALUE=DURATION:PT1H
X-Robots-Tag:noindex
X-PUBLISHED-TTL:PT1H
BEGIN:VTIMEZONE
TZID:America/New_York
BEGIN:DAYLIGHT
TZOFFSETFROM:-0500
TZOFFSETTO:-0400
TZNAME:EDT
DTSTART:20190310T070000
END:DAYLIGHT
BEGIN:STANDARD
TZOFFSETFROM:-0400
TZOFFSETTO:-0500
TZNAME:EST
DTSTART:20191103T060000
END:STANDARD
BEGIN:DAYLIGHT
TZOFFSETFROM:-0500
TZOFFSETTO:-0400
TZNAME:EDT
DTSTART:20200308T070000
END:DAYLIGHT
BEGIN:STANDARD
TZOFFSETFROM:-0400
TZOFFSETTO:-0500
TZNAME:EST
DTSTART:20201101T060000
END:STANDARD
BEGIN:DAYLIGHT
TZOFFSETFROM:-0500
TZOFFSETTO:-0400
TZNAME:EDT
DTSTART:20210314T070000
END:DAYLIGHT
BEGIN:STANDARD
TZOFFSETFROM:-0400
TZOFFSETTO:-0500
TZNAME:EST
DTSTART:20211107T060000
END:STANDARD
BEGIN:DAYLIGHT
TZOFFSETFROM:-0500
TZOFFSETTO:-0400
TZNAME:EDT
DTSTART:20220313T070000
END:DAYLIGHT
BEGIN:STANDARD
TZOFFSETFROM:-0400
TZOFFSETTO:-0500
TZNAME:EST
DTSTART:20221106T060000
END:STANDARD
END:VTIMEZONE
BEGIN:VEVENT
DTSTART;TZID=America/New_York:20210914T190000
DTEND;TZID=America/New_York:20210914T200000
DTSTAMP:20260423T181101
CREATED:20210815T031845Z
LAST-MODIFIED:20210815T032239Z
UID:2393-1631646000-1631649600@vetteclub.org
SUMMARY:CCND - Monthly Meeting
DESCRIPTION:
URL:https://vetteclub.org/event/ccnd-monthly-meeting-4/
LOCATION:Timothy’s\, 100 Creek View Rd.\, Newark\, DE\, 19711\, United States
CATEGORIES:Club Meetings
END:VEVENT
BEGIN:VEVENT
DTSTART;TZID=America/New_York:20210608T190000
DTEND;TZID=America/New_York:20210608T200000
DTSTAMP:20260423T181101
CREATED:20210316T131503Z
LAST-MODIFIED:20210316T131503Z
UID:2248-1623178800-1623182400@vetteclub.org
SUMMARY:CCND Monthly Mtg @ Timothy's Newark
DESCRIPTION:
URL:https://vetteclub.org/event/ccnd-monthly-mtg-timothys-newark-3/
LOCATION:Timothy’s\, 100 Creek View Rd.\, Newark\, DE\, 19711\, United States
CATEGORIES:Club Meetings
END:VEVENT
BEGIN:VEVENT
DTSTART;TZID=America/New_York:20210511T190000
DTEND;TZID=America/New_York:20210511T200000
DTSTAMP:20260423T181101
CREATED:20210316T131413Z
LAST-MODIFIED:20210316T131413Z
UID:2246-1620759600-1620763200@vetteclub.org
SUMMARY:CCND Monthly Mtg @ Timothy's Newark
DESCRIPTION:
URL:https://vetteclub.org/event/ccnd-monthly-mtg-timothys-newark-2/
LOCATION:Timothy’s\, 100 Creek View Rd.\, Newark\, DE\, 19711\, United States
CATEGORIES:Club Meetings
END:VEVENT
BEGIN:VEVENT
DTSTART;TZID=America/New_York:20210406T190000
DTEND;TZID=America/New_York:20210406T200000
DTSTAMP:20260423T181101
CREATED:20210316T131332Z
LAST-MODIFIED:20210316T131332Z
UID:2244-1617735600-1617739200@vetteclub.org
SUMMARY:CCND Monthly Mtg @ Timothy's Newark
DESCRIPTION:
URL:https://vetteclub.org/event/ccnd-monthly-mtg-timothys-newark/
LOCATION:Timothy’s\, 100 Creek View Rd.\, Newark\, DE\, 19711\, United States
CATEGORIES:Club Meetings
END:VEVENT
BEGIN:VEVENT
DTSTART;TZID=America/New_York:20201110T190000
DTEND;TZID=America/New_York:20201110T200000
DTSTAMP:20260423T181101
CREATED:20200805T014551Z
LAST-MODIFIED:20201031T132406Z
UID:1972-1605034800-1605038400@vetteclub.org
SUMMARY:CCND Monthly Mtg @ Timothy's Newark
DESCRIPTION:
URL:https://vetteclub.org/event/ccnd-monthly-meeting-3/
LOCATION:Timothy’s\, 100 Creek View Rd.\, Newark\, DE\, 19711\, United States
CATEGORIES:Club Meetings
END:VEVENT
BEGIN:VEVENT
DTSTART;TZID=America/New_York:20201013T190000
DTEND;TZID=America/New_York:20201013T200000
DTSTAMP:20260423T181101
CREATED:20200805T014350Z
LAST-MODIFIED:20200921T004219Z
UID:1969-1602615600-1602619200@vetteclub.org
SUMMARY:CCND Monthly @ Timothy's Newark
DESCRIPTION:
URL:https://vetteclub.org/event/ccnd-monthly-meeting-2/
LOCATION:Timothy’s\, 100 Creek View Rd.\, Newark\, DE\, 19711\, United States
CATEGORIES:Club Meetings
END:VEVENT
BEGIN:VEVENT
DTSTART;TZID=America/New_York:20200908T190000
DTEND;TZID=America/New_York:20200908T200000
DTSTAMP:20260423T181101
CREATED:20200805T014801Z
LAST-MODIFIED:20200817T232359Z
UID:1976-1599591600-1599595200@vetteclub.org
SUMMARY:CCND Monthly Mtg DE City Park
DESCRIPTION:
URL:https://vetteclub.org/event/ccnd-monthly-meeting-5/
LOCATION:To be announced
CATEGORIES:Club Meetings
END:VEVENT
BEGIN:VEVENT
DTSTART;TZID=America/New_York:20200811T190000
DTEND;TZID=America/New_York:20200811T200000
DTSTAMP:20260423T181101
CREATED:20200804T143940Z
LAST-MODIFIED:20200804T145035Z
UID:1952-1597172400-1597176000@vetteclub.org
SUMMARY:CCND Monthly Meeting
DESCRIPTION:
URL:https://vetteclub.org/event/ccnd-monthly-meeting/
LOCATION:Delaware City Park\, 801 Madison St\, Delaware City\, DE\, 19706\, United States
CATEGORIES:Club Meetings
END:VEVENT
END:VCALENDAR