BEGIN:VCALENDAR
VERSION:2.0
PRODID:-//Corvette Club of Northern Delaware - ECPv6.15.20//NONSGML v1.0//EN
CALSCALE:GREGORIAN
METHOD:PUBLISH
X-WR-CALNAME:Corvette Club of Northern Delaware
X-ORIGINAL-URL:https://vetteclub.org
X-WR-CALDESC:Events for Corvette Club of Northern Delaware
REFRESH-INTERVAL;VALUE=DURATION:PT1H
X-Robots-Tag:noindex
X-PUBLISHED-TTL:PT1H
BEGIN:VTIMEZONE
TZID:America/New_York
BEGIN:DAYLIGHT
TZOFFSETFROM:-0500
TZOFFSETTO:-0400
TZNAME:EDT
DTSTART:20240310T070000
END:DAYLIGHT
BEGIN:STANDARD
TZOFFSETFROM:-0400
TZOFFSETTO:-0500
TZNAME:EST
DTSTART:20241103T060000
END:STANDARD
BEGIN:DAYLIGHT
TZOFFSETFROM:-0500
TZOFFSETTO:-0400
TZNAME:EDT
DTSTART:20250309T070000
END:DAYLIGHT
BEGIN:STANDARD
TZOFFSETFROM:-0400
TZOFFSETTO:-0500
TZNAME:EST
DTSTART:20251102T060000
END:STANDARD
BEGIN:DAYLIGHT
TZOFFSETFROM:-0500
TZOFFSETTO:-0400
TZNAME:EDT
DTSTART:20260308T070000
END:DAYLIGHT
BEGIN:STANDARD
TZOFFSETFROM:-0400
TZOFFSETTO:-0500
TZNAME:EST
DTSTART:20261101T060000
END:STANDARD
END:VTIMEZONE
BEGIN:VEVENT
DTSTART;TZID=America/New_York:20251025T150000
DTEND;TZID=America/New_York:20251025T180000
DTSTAMP:20260423T192919
CREATED:20250509T175826Z
LAST-MODIFIED:20250531T141213Z
UID:3786-1761404400-1761415200@vetteclub.org
SUMMARY:CCND Cruise-in - DE City Park
DESCRIPTION:
URL:https://vetteclub.org/event/ccnd-cruise-in-battery-park-de-city-3/
LOCATION:Delaware City Park\, Clinton St\, Delaware City\, DE\, 19706\, United States
CATEGORIES:Cruises
END:VEVENT
BEGIN:VEVENT
DTSTART;TZID=America/New_York:20250927T150000
DTEND;TZID=America/New_York:20250927T180000
DTSTAMP:20260423T192919
CREATED:20250509T175752Z
LAST-MODIFIED:20250531T141142Z
UID:3784-1758985200-1758996000@vetteclub.org
SUMMARY:CCND Cruise-in - DE City Park
DESCRIPTION:
URL:https://vetteclub.org/event/ccnd-cruise-in-battery-park-de-city-2/
LOCATION:Delaware City Park\, Clinton St\, Delaware City\, DE\, 19706\, United States
CATEGORIES:Cruises
END:VEVENT
BEGIN:VEVENT
DTSTART;TZID=America/New_York:20250830T150000
DTEND;TZID=America/New_York:20250830T180000
DTSTAMP:20260423T192919
CREATED:20250509T175644Z
LAST-MODIFIED:20250531T141054Z
UID:3781-1756566000-1756576800@vetteclub.org
SUMMARY:CCND Cruise-in - DE City Park
DESCRIPTION:
URL:https://vetteclub.org/event/ccnd-cruise-in-battery-park-de-city/
LOCATION:Delaware City Park\, Clinton St\, Delaware City\, DE\, 19706\, United States
CATEGORIES:Cruises
END:VEVENT
BEGIN:VEVENT
DTSTART;TZID=America/New_York:20250628T150000
DTEND;TZID=America/New_York:20250628T180000
DTSTAMP:20260423T192919
CREATED:20250509T175113Z
LAST-MODIFIED:20250531T140608Z
UID:3776-1751122800-1751133600@vetteclub.org
SUMMARY:CCND Cruise-in - DE City Park
DESCRIPTION:
URL:https://vetteclub.org/event/ccnd-cruise-in-battery-park-delaware-city/
LOCATION:Delaware City Park\, Clinton St\, Delaware City\, DE\, 19706\, United States
CATEGORIES:Cruises
END:VEVENT
BEGIN:VEVENT
DTSTART;TZID=America/New_York:20250531T150000
DTEND;TZID=America/New_York:20250531T180000
DTSTAMP:20260423T192919
CREATED:20250203T153123Z
LAST-MODIFIED:20250531T140936Z
UID:3702-1748703600-1748714400@vetteclub.org
SUMMARY:CCND Cruise-in - DE City Park
DESCRIPTION:
URL:https://vetteclub.org/event/ccnd-cruise-in-fox-run-shopping-center-30/
LOCATION:Delaware City Park\, Clinton St\, Delaware City\, DE\, 19706\, United States
CATEGORIES:Cruises
END:VEVENT
END:VCALENDAR